BEGIN:VCALENDAR
VERSION:2.0
PRODID:-//ChamberMaster//Event Calendar 2.0//EN
METHOD:PUBLISH
X-PUBLISHED-TTL:P3D
REFRESH-INTERVAL:P3D
CALSCALE:GREGORIAN
BEGIN:VEVENT
DTSTART:20091007T173000Z
DTEND:20091007T230000Z
X-MICROSOFT-CDO-ALLDAYEVENT:FALSE
SUMMARY:2009 Action Excellence Conference
DESCRIPTION:RE-IMAGINING YOUR ORGANIZATION'S FUTURE Leadership   Customer Focus   Innovation   Benefits\, Processes Continuous Improvement   Measurement KEYNOTE: LEADING THROUGH CHANGE  RULONSTACEY\, PhD\, CEO POUDREVALLEY HEALTH SYSTEM EXCELLENCE EXPERIENCE LEADER: EDGOODMAN\,TST ENGINEERING ROUNDTABLE SPEAKERS: ADAMCOHEN - CH2M HILL - OMI\, MALCOLM BALDRIGE FOR SERVICE SHARONCLINEBELL - MONFORT COLLEGE OF BUSINESS   UNIVERSITY OF NORTHERN COLORADO\, MALCOLM BALDRIGE FOR EDUCATION PRISCILLA NUWASH - POUDREVALLEY HEALTH SYSTEM\, MALCOLM BALDRIGE FOR HEALTHCARE
X-ALT-DESC;FMTTYPE=text/html:<div><span class="Apple-style-span" style="widows: 2\; text-transform: none\; text-indent: 0px\; border-collapse: separate\; font: medium 'Times New Roman'\; white-space: normal\; orphans: 2\; letter-spacing: normal\; color: rgb(0\,0\,0)\; word-spacing: 0px\; -webkit-border-horizontal-spacing: 0px\; -webkit-border-vertical-spacing: 0px\; -webkit-text-decorations-in-effect: none\; -webkit-text-size-adjust: auto\; -webkit-text-stroke-width: 0px"><span class="Apple-style-span" style="font-family: Verdana\, Arial\, sans-serif\; font-size: 11px">RE-IMAGINING YOUR ORGANIZATION&rsquo\;S FUTURE Leadership &bull\; Customer Focus &bull\; Innovation &bull\; Benefits\, Processes Continuous Improvement &bull\; Measurement KEYNOTE: LEADING THROUGH CHANGE &mdash\;RULONSTACEY\, PhD\, CEO POUDREVALLEY HEALTH SYSTEM EXCELLENCE EXPERIENCE LEADER: EDGOODMAN\,TST ENGINEERING ROUNDTABLE SPEAKERS: ADAMCOHEN - CH2M HILL - OMI\, MALCOLM BALDRIGE FOR SERVICE SHARONCLINEBELL - MONFORT COLLEGE OF BUSINESS &ndash\; UNIVERSITY OF NORTHERN COLORADO\, MALCOLM BALDRIGE FOR EDUCATION PRISCILLA NUWASH - POUDREVALLEY HEALTH SYSTEM\, MALCOLM BALDRIGE FOR HEALTHCARE</span></span></div>
LOCATION:Embassy Suites Loveland
UID:e.593.1609
SEQUENCE:3
DTSTAMP:20260419T215415Z
URL:https://business.loveland.org/events/details/2009-action-excellence-conference-10-07-2009-1609
END:VEVENT

END:VCALENDAR
