BEGIN:VCALENDAR
VERSION:2.0
PRODID:-//ChamberMaster//Event Calendar 2.0//EN
METHOD:PUBLISH
X-PUBLISHED-TTL:P3D
REFRESH-INTERVAL:P3D
CALSCALE:GREGORIAN
BEGIN:VEVENT
DTSTART:20100123T003000Z
DTEND:20100123T033000Z
X-MICROSOFT-CDO-ALLDAYEVENT:FALSE
SUMMARY:2010 Annual Investor's Dinner
DESCRIPTION:SOLD OUT -- If you would like to be added to a waiting list for last minute availability\, please contact Vickie Rasmussen\, vrasmussen@loveland.org\, 667-6311. As the Chamber's premiere annual event\, the Annual Meeting highlights the past year and leads into the new year with the theme of 'Survivor'. Platinum sponsors are are Banner Health/McKee Medical Center\, the City of Loveland and Kennedy & Coe. The Gold Sponsor is Mueller & Associates\, CPA. The Annual Dinner features an array of entertainment and networking opportunities. This fun event will feature chamber-wide challenges\, recognizing the investors that can best outwit\, outplay and outlast competitors. Award winners will be recognized in the following categories: the Heart award\, recognizing an outstanding individual\, Business of the Year award\, which recognizes an outstanding business\, the Ambassador of the Year award and the new Survivor award\, recognizing companies that have implemented creative tactics to survive and thrive in a down economy. Finalists' video submissions for the Survivor award will be aired throughout the night and the audience attending the meeting will choose the final winner. The Loveland Chamber's Annual Dinner will be MC'ed by Brian Gary and Todd Harding\, morning show personalities with K99\, this event will also include recognition and the 'passing of the torch from the incoming and outgoing board chairs\, card bidding to win a fabulous prize and the event's first silent auction as an opportunity to come away with some great gifts. Tickets are on sale today. $50 for chamber investors\, $70 for non-investors. Call 667-6311 to purchase your tickets today.
X-ALT-DESC;FMTTYPE=text/html:<div><div><span class="855113923-09112009"><font size="2" face="Tahoma"><div style="margin: 0in 0in 0pt"><b>SOLD OUT -- </b>If you would like to be added to a waiting list for last minute availability\, please contact Vickie Rasmussen\, <a href="mailto:vrasmussen@loveland.org">vrasmussen@loveland.org</a>\, 667-6311.</div><div style="margin: 0in 0in 0pt">&nbsp\;</div><div style="margin: 0in 0in 0pt">As the Chamber&rsquo\;s premiere annual event\, the Annual Meeting highlights the past year and leads into the new year with the theme of &lsquo\;Survivor&rsquo\;. Platinum sponsors are are Banner Health/McKee Medical Center\, the City of Loveland and Kennedy &amp\; Coe. The Gold Sponsor is Mueller &amp\; Associates\, CPA.</div><div style="margin: 0in 0in 0pt">&nbsp\;</div><div style="margin: 0in 0in 0pt">The Annual Dinner features an array of entertainment and networking opportunities. This fun event will feature chamber-wide challenges\, recognizing the investors that can best outwit\, outplay and outlast competitors. Award winners will be recognized in the following categories: the Heart award\, recognizing an outstanding individual\, Business of the Year award\, which recognizes an outstanding business\, the Ambassador of the Year award and the new Survivor award\, recognizing companies that have implemented creative tactics to survive and thrive in a down economy. Finalists&rsquo\; video submissions for the Survivor award will be aired throughout the night and the audience attending the meeting will choose the final winner.</div><div style="margin: 0in 0in 0pt">&nbsp\;</div><div style="margin: 0in 0in 0pt">The Loveland Chamber&rsquo\;s Annual Dinner will be MC&rsquo\;ed by Brian Gary and Todd Harding\, morning show personalities with K99\, this event will also include recognition and the &lsquo\;passing of the torch from the incoming and outgoing board chairs\, card bidding to win a fabulous prize and the event&rsquo\;s first silent auction as an opportunity to come away with some great gifts.</div><div style="margin: 0in 0in 0pt">&nbsp\;</div><div style="margin: 0in 0in 0pt">Tickets are on sale today. $50 for chamber investors\, $70 for non-investors. Call 667-6311 to purchase your tickets today.</div><div style="margin: 0in 0in 0pt"><b>&nbsp\;</b></div><div style="margin: 0in 0in 0pt"><b>&nbsp\;</b></div></font></span></div></div>
LOCATION:McKee Conference and Wellness Center2000 N. Boise Ave. Loveland
UID:e.593.2043
SEQUENCE:3
DTSTAMP:20260419T173227Z
URL:https://business.loveland.org/events/details/2010-annual-investor-s-dinner-01-22-2010-2043
END:VEVENT

END:VCALENDAR
