BEGIN:VCALENDAR
VERSION:2.0
PRODID:-//ChamberMaster//Event Calendar 2.0//EN
METHOD:PUBLISH
X-PUBLISHED-TTL:P3D
REFRESH-INTERVAL:P3D
CALSCALE:GREGORIAN
BEGIN:VEVENT
DTSTART;VALUE=DATE:20100213
DTEND;VALUE=DATE:20100214
TRANSP:TRANSPARENT
X-MICROSOFT-CDO-ALLDAYEVENT:TRUE
SUMMARY:2nd Annual Sweetheart Dance at the Fountains of Loveland
DESCRIPTION:2nd Annual Sweetheart Dance\n\nIncludes Music\, dancing and romantic desserts to share\n\nCash Bar
X-ALT-DESC;FMTTYPE=text/html:2nd Annual Sweetheart Dance\n<br>Includes Music\, dancing and romantic desserts to share\n<br>Cash Bar
LOCATION:Fountains of Loveland ~ Regency Ballroom 1480 Cascade Ave.\, Loveland\, CO
UID:e.593.2405
SEQUENCE:3
DTSTAMP:20260419T160717Z
URL:https://business.loveland.org/events/details/2nd-annual-sweetheart-dance-at-the-fountains-of-loveland-02-13-2010-2405
END:VEVENT

END:VCALENDAR
