BEGIN:VCALENDAR
VERSION:2.0
PRODID:-//ChamberMaster//Event Calendar 2.0//EN
METHOD:PUBLISH
X-PUBLISHED-TTL:P3D
REFRESH-INTERVAL:P3D
CALSCALE:GREGORIAN
BEGIN:VEVENT
DTSTART:20091205T160000Z
DTEND:20091205T230000Z
X-MICROSOFT-CDO-ALLDAYEVENT:FALSE
SUMMARY:8th Annual Harmony House Artisan Sale
DESCRIPTION:Come and shop for the works of local and regional artists for one of a kind treasures ... all to support abused and neglected children in our community.\n      This is a fundraiser for the Loveland & Fort Collins Harmony Houses\, programs of CASA of Larimer County.
X-ALT-DESC;FMTTYPE=text/html:Come and shop for the works of local and regional artists for one of a kind treasures ... all to support abused and neglected children in our community.\n      This is a fundraiser for the Loveland & Fort Collins Harmony Houses\, programs of CASA of Larimer County.
LOCATION:Harmony House\, 3105 E. Harmony Rd. Fort Collins
UID:e.593.1889
SEQUENCE:3
DTSTAMP:20260419T173424Z
URL:https://business.loveland.org/events/details/8th-annual-harmony-house-artisan-sale-12-05-2009-1889
END:VEVENT

END:VCALENDAR
