BEGIN:VCALENDAR
VERSION:2.0
PRODID:-//ChamberMaster//Event Calendar 2.0//EN
METHOD:PUBLISH
X-PUBLISHED-TTL:P3D
REFRESH-INTERVAL:P3D
CALSCALE:GREGORIAN
BEGIN:VEVENT
DTSTART:20251227T233000Z
DTEND:20251228T040000Z
X-MICROSOFT-CDO-ALLDAYEVENT:FALSE
SUMMARY:'A Night in Vienna' Opera Ball
DESCRIPTION:We could not have our Alps Meet the Rockies season end without a waltz. In true Viennese fashion we invite our guests to 'dress to the nines' and join us for an opulent evening of opera\, waltzes\, dining\, and drink.\n\nWhile we're not at the Imperial Palace\, we can let the music and merriment transport us there as we enjoy opera and operetta's most celebratory tunes interspersed with classic waltzes.\n\nThe beautiful TPC clubhouse with the Rocky Mountains in the backdrop will be the perfect Colorado setting for this night you won't want to miss.\n\n\n\nAdmission includes a three course plated dinner including salad\, entree and dessert. Cash bar will be available with appropriately themed cocktails.\n\nDon't miss your chance to experience the magic! Rally your friends\, book your seats\, and get ready for an incredible evening of music and dancing! Masquerade ball masks and formal attire encouraged but not required. Arrive at 4:30 to experience the majestic sunset over Longs Peak. Dancing and entertainment until 9:00pm.
X-ALT-DESC;FMTTYPE=text/html:<p>We could not have our Alps Meet the Rockies season end without a waltz. In true Viennese fashion we invite our guests to &lsquo\;dress to the nines&rsquo\; and join us for an opulent evening of opera\, waltzes\, dining\, and drink.</p>\n\n<p>While we&#39\;re not at the Imperial Palace\, we can let the music and merriment transport us there as we enjoy opera and operetta&#39\;s most celebratory tunes interspersed with classic waltzes.</p>\n\n<p>The beautiful TPC clubhouse with the Rocky Mountains in the backdrop will be the perfect Colorado setting for this night you won&#39\;t want to miss.<br />\n<br />\nAdmission includes a thre<span style="font-family:arial\,helvetica\,sans-serif">e course</span> plated dinner including salad\, entree and dessert. Cash bar will be available with appropriately themed cocktails.</p>\n\n<p><span style="font-family:tahoma"><span style="font-size:14px"><span style="color:rgb(49\, 47\, 46)">Don&rsquo\;t miss your chance to experience the magic! Rally your friends\, book your seats\, and get ready for an incredible evening of music and dancing! Masquerade ball masks and formal attire encouraged but not required. Arrive at 4:30 to experience the majestic sunset over Longs Peak. Dancing and entertainment until 9:00pm.&nbsp\;</span></span></span></p>\n
LOCATION:The Ballroom at TPC Colorado Clubhouse 2375 TPC Pkwy Berthoud\, CO 80513
UID:e.593.25115
SEQUENCE:3
DTSTAMP:20260420T205927Z
URL:https://business.loveland.org/events/details/a-night-in-vienna-opera-ball-25115
END:VEVENT

END:VCALENDAR
