BEGIN:VCALENDAR
VERSION:2.0
PRODID:-//ChamberMaster//Event Calendar 2.0//EN
METHOD:PUBLISH
X-PUBLISHED-TTL:P3D
REFRESH-INTERVAL:P3D
CALSCALE:GREGORIAN
BEGIN:VEVENT
DTSTART:20091017T150000Z
DTEND:20091017T220000Z
X-MICROSOFT-CDO-ALLDAYEVENT:FALSE
SUMMARY:Annual Holiday Arts and Crafts Sale
DESCRIPTION:Refreshments while you shop\, free drawing\, and visiting the alpacas (weather permitting).Featuring: Alpaca scarves\, bookmarks\, calligraphy\, cards\, kettle corn\, blankets\, candles\, finger-jointed wooden boxes\, fleece apparel\, handmade soap\, holiday items\, tote bags\, jewelry\, needlework\, art\, pottery\, quilted items\, wood carvings and much more.
X-ALT-DESC;FMTTYPE=text/html:<div>Refreshments while you shop\, free drawing\, and visiting the alpacas (weather permitting).</div><div>Featuring: Alpaca scarves\, bookmarks\, calligraphy\, cards\, kettle corn\, blankets\, candles\, finger-jointed wooden boxes\, fleece apparel\, handmade soap\, holiday items\, tote bags\, jewelry\, needlework\, art\, pottery\, quilted items\, wood carvings and much more.</div>
LOCATION:The Backbone Special Event Center: 1720 Glade Road\, Loveland (2.2 miles west of Wilson Avenue on Highway 34\, turn right on Glade Road at the Conoco Station and follow the signs)
UID:e.593.1625
SEQUENCE:3
DTSTAMP:20260419T205236Z
URL:https://business.loveland.org/events/details/annual-holiday-arts-and-crafts-sale-10-17-2009-1625
END:VEVENT

END:VCALENDAR
