BEGIN:VCALENDAR
VERSION:2.0
PRODID:-//ChamberMaster//Event Calendar 2.0//EN
METHOD:PUBLISH
X-PUBLISHED-TTL:P3D
REFRESH-INTERVAL:P3D
CALSCALE:GREGORIAN
BEGIN:VEVENT
DTSTART:20251219T010000Z
DTEND:20251219T050000Z
X-MICROSOFT-CDO-ALLDAYEVENT:FALSE
SUMMARY:Annual Holiday Show | featuring Dave Beegle\, and The Alcantar Family
DESCRIPTION:Join us for an enchanting evening of music and holiday cheer at our highly anticipated Fifth Annual Holiday Concert!\n\n \n\nJoin us on December 18 from 6-9 PM for an enchanting evening with Loveland's beloved musician\, Dave Beegle\, featuring special guests The Alcantar Family.\n\nPrepare to be mesmerized by a captivating mix of holiday classics and stunning solo performances\, each showcasing the extraordinary talents of our local musicians. As you arrive\, enjoy a complimentary specialty beverage to kick off the festive atmosphere. Our cash bar will also be available\, offering a diverse selection of drinks\, including beer\, wine\, and a specially curated holiday cocktail menu.\n\nTo enhance your experience\, we are pleased to offer a variety of ticket options\, including theater-style seating and intimate two-tops\, four-tops\, and six-tops for larger gatherings. Whether you're celebrating with friends\, family\, or a special someone\, we have the perfect seating arrangement for you.\n\nEmbrace the spirit of Christmas\, We can't wait to share this magical evening with you!\n\nSecure your tickets now and get ready for an unforgettable experience at our Fifth Annual Holiday Concert!\n\n \n\n***Space will be limited
X-ALT-DESC;FMTTYPE=text/html:<h3>Join us for an enchanting evening of music and holiday cheer at our highly anticipated Fifth Annual Holiday Concert!</h3>\n\n<p>&nbsp\;</p>\n\n<p><strong>Join us on December 18 from 6-9 PM for an enchanting evening with Loveland&#39\;s beloved musician\, Dave Beegle\, featuring special guests The Alcantar Family.</strong></p>\n\n<p>Prepare to be mesmerized by a captivating mix of holiday classics and stunning solo performances\, each showcasing the extraordinary talents of our local musicians. As you arrive\, enjoy a complimentary specialty beverage to kick off the festive atmosphere. Our cash bar will also be available\, offering a diverse selection of drinks\, including beer\, wine\, and a specially curated holiday cocktail menu.</p>\n\n<p>To enhance your experience\, we are pleased to offer a variety of ticket options\, including theater-style seating and intimate two-tops\, four-tops\, and six-tops for larger gatherings. Whether you&#39\;re celebrating with friends\, family\, or a special someone\, we have the perfect seating arrangement for you.</p>\n\n<p>Embrace the spirit of Christmas\, We can&#39\;t wait to share this magical evening with you!</p>\n\n<p><strong>Secure your tickets now and get ready for an unforgettable experience at our Fifth Annual Holiday Concert!</strong></p>\n\n<p>&nbsp\;</p>\n\n<p><em><strong>***Space will be limited</strong></em></p>\n
LOCATION:desk chair workspace: 201 East 4th Street Loveland\, CO 80537
UID:e.593.24968
SEQUENCE:3
DTSTAMP:20260420T192701Z
URL:https://business.loveland.org/events/details/annual-holiday-show-featuring-dave-beegle-and-the-alcantar-family-24968
END:VEVENT

END:VCALENDAR
