BEGIN:VCALENDAR
VERSION:2.0
PRODID:-//ChamberMaster//Event Calendar 2.0//EN
METHOD:PUBLISH
X-PUBLISHED-TTL:P3D
REFRESH-INTERVAL:P3D
CALSCALE:GREGORIAN
BEGIN:VEVENT
DTSTART:20091205T150000Z
DTEND:20091205T180000Z
X-MICROSOFT-CDO-ALLDAYEVENT:FALSE
SUMMARY:Annual Santa Breakfast
DESCRIPTION:Normal\n  0\n  \n  \n  false\n  false\n  false\n  \n   \n   \n   \n   \n   \n  \n  MicrosoftInternetExplorer4\n \n\n \n \n\n\nst1\\:*{behavior:url(#ieooui) }\n\n\n\n\n\n /* Style Definitions */\n table.MsoNormalTable\n	{mso-style-name:"Table Normal"\;\n	mso-tstyle-rowband-size:0\;\n	mso-tstyle-colband-size:0\;\n	mso-style-noshow:yes\;\n	mso-style-parent:""\;\n	mso-padding-alt:0in 5.4pt 0in 5.4pt\;\n	mso-para-margin:0in\;\n	mso-para-margin-bottom:.0001pt\;\n	mso-pagination:widow-orphan\;\n	font-size:10.0pt\;\n	font-family:"Times New Roman"\;\n	mso-ansi-language:#0400\;\n	mso-fareast-language:#0400\;\n	mso-bidi-language:#0400\;}\n\nThe Loveland High School band program is sponsoring its annual Santa Breakfast for families. Guests will have the opportunity to have pictures taken with Santa\, purchase holiday goodies from a bake sale\, listen to music performed by students and more! This is a fundraiser for the LHS state champion Crimson Regiment Marching Band.
X-ALT-DESC;FMTTYPE=text/html:<div><meta http-equiv="Content-Type" content="text/html\; charset=utf-8"><meta name="ProgId" content="Word.Document"><meta name="Generator" content="Microsoft Word 11"><meta name="Originator" content="Microsoft Word 11"><link rel="File-List" href="file:///C:%5CDOCUME%7E1%5CIntern%5CLOCALS%7E1%5CTemp%5Cmsohtml1%5C01%5Cclip_filelist.xml" /><o:smarttagtype namespaceuri="urn:schemas-microsoft-com:office:smarttags" name="place"></o:smarttagtype><o:smarttagtype namespaceuri="urn:schemas-microsoft-com:office:smarttags" name="PlaceType"></o:smarttagtype><o:smarttagtype namespaceuri="urn:schemas-microsoft-com:office:smarttags" name="PlaceName"></o:smarttagtype><!--[if gte mso 9]><xml>\n <w:WordDocument>\n  <w:View>Normal</w:View>\n  <w:Zoom>0</w:Zoom>\n  <w:PunctuationKerning />\n  <w:ValidateAgainstSchemas />\n  <w:SaveIfXMLInvalid>false</w:SaveIfXMLInvalid>\n  <w:IgnoreMixedContent>false</w:IgnoreMixedContent>\n  <w:AlwaysShowPlaceholderText>false</w:AlwaysShowPlaceholderText>\n  <w:Compatibility>\n   <w:BreakWrappedTables />\n   <w:SnapToGridInCell />\n   <w:WrapTextWithPunct />\n   <w:UseAsianBreakRules />\n   <w:DontGrowAutofit />\n  </w:Compatibility>\n  <w:BrowserLevel>MicrosoftInternetExplorer4</w:BrowserLevel>\n </w:WordDocument>\n</xml><![endif]--><!--[if gte mso 9]><xml>\n <w:LatentStyles DefLockedState="false" LatentStyleCount="156">\n </w:LatentStyles>\n</xml><![endif]--><!--[if !mso]><object\n classid="clsid:38481807-CA0E-42D2-BF39-B33AF135CC4D" id=ieooui></object>\n<style>\nst1\\:*{behavior:url(#ieooui) }\n</style>\n<![endif]--><style type="text/css">\n<!--\n /* Font Definitions */\n @font-face\n	{font-family:"Comic Sans MS"\;\n	panose-1:3 15 7 2 3 3 2 2 2 4\;\n	mso-font-charset:0\;\n	mso-generic-font-family:script\;\n	mso-font-pitch:variable\;\n	mso-font-signature:647 0 0 0 159 0\;}\n@font-face\n	{font-family:Georgia\;\n	panose-1:2 4 5 2 5 4 5 2 3 3\;\n	mso-font-charset:0\;\n	mso-generic-font-family:roman\;\n	mso-font-pitch:variable\;\n	mso-font-signature:647 0 0 0 159 0\;}\n /* Style Definitions */\n p.MsoNormal\, li.MsoNormal\, div.MsoNormal\n	{mso-style-parent:""\;\n	margin:0in\;\n	margin-bottom:.0001pt\;\n	mso-pagination:widow-orphan\;\n	font-size:12.0pt\;\n	font-family:Georgia\;\n	mso-fareast-font-family:"Times New Roman"\;\n	mso-bidi-font-family:"Times New Roman"\;}\n@page Section1\n	{size:8.5in 11.0in\;\n	margin:1.0in 1.25in 1.0in 1.25in\;\n	mso-header-margin:.5in\;\n	mso-footer-margin:.5in\;\n	mso-paper-source:0\;}\ndiv.Section1\n	{page:Section1\;}\n-->\n</style><!--[if gte mso 10]>\n<style>\n /* Style Definitions */\n table.MsoNormalTable\n	{mso-style-name:"Table Normal"\;\n	mso-tstyle-rowband-size:0\;\n	mso-tstyle-colband-size:0\;\n	mso-style-noshow:yes\;\n	mso-style-parent:""\;\n	mso-padding-alt:0in 5.4pt 0in 5.4pt\;\n	mso-para-margin:0in\;\n	mso-para-margin-bottom:.0001pt\;\n	mso-pagination:widow-orphan\;\n	font-size:10.0pt\;\n	font-family:"Times New Roman"\;\n	mso-ansi-language:#0400\;\n	mso-fareast-language:#0400\;\n	mso-bidi-language:#0400\;}\n</style>\n<![endif]--></meta></meta></meta></meta><span style="color: black\;">The <st1:placename w:st="on">Loveland</st1:placename> <st1:placetype w:st="on">High School</st1:placetype> band program is sponsoring its annual Santa Breakfast for families.</span> <o:p></o:p><span style="color: black\;">Guests will have the opportunity to have pictures taken with Santa\, purchase holiday goodies from a bake sale\, listen to music performed by students and more! This is a fundraiser for the LHS state champion Crimson Regiment Marching Band.<o:p></o:p></span></div><p class="MsoNormal" style=""><span style="color: black\;"><o:p>&nbsp\;</o:p></span></p>
LOCATION:Loveland High School Cafeteria
UID:e.593.2051
SEQUENCE:3
DTSTAMP:20260419T173052Z
URL:https://business.loveland.org/events/details/annual-santa-breakfast-12-05-2009-2051
END:VEVENT

END:VCALENDAR
