BEGIN:VCALENDAR
VERSION:2.0
PRODID:-//ChamberMaster//Event Calendar 2.0//EN
METHOD:PUBLISH
X-PUBLISHED-TTL:P3D
REFRESH-INTERVAL:P3D
CALSCALE:GREGORIAN
BEGIN:VEVENT
DTSTART:20091114T220000Z
DTEND:20091115T020000Z
X-MICROSOFT-CDO-ALLDAYEVENT:FALSE
SUMMARY:Annual Tree Lighting
DESCRIPTION:Normal\n  0\n  \n  \n  false\n  false\n  false\n  \n   \n   \n   \n   \n   \n  \n  MicrosoftInternetExplorer4\n \n\n \n \n\n\n\n\n /* Style Definitions */\n table.MsoNormalTable\n	{mso-style-name:"Table Normal"\;\n	mso-tstyle-rowband-size:0\;\n	mso-tstyle-colband-size:0\;\n	mso-style-noshow:yes\;\n	mso-style-parent:""\;\n	mso-padding-alt:0in 5.4pt 0in 5.4pt\;\n	mso-para-margin:0in\;\n	mso-para-margin-bottom:.0001pt\;\n	mso-pagination:widow-orphan\;\n	font-size:10.0pt\;\n	font-family:"Times New Roman"\;\n	mso-ansi-language:#0400\;\n	mso-fareast-language:#0400\;\n	mso-bidi-language:#0400\;}\n\nJump start the holiday season       by attending the Outlets at Loveland Annual Tree Lighting! From 3- 7pm\,       there will be family events\, special savings\, hot cocoa\, entertainment       from the Loveland High School Marching Band\, goody bags as well as Santa       Clause helping us light up our Christmas trees! Don't miss it!
X-ALT-DESC;FMTTYPE=text/html:<div><meta content="text/html\; charset=utf-8" http-equiv="Content-Type" /><meta content="Word.Document" name="ProgId" /><meta content="Microsoft Word 11" name="Generator" /><meta content="Microsoft Word 11" name="Originator" /><link href="file:///C:\\DOCUME~1\\Intern\\LOCALS~1\\Temp\\msohtml1\\01\\clip_filelist.xml" rel="File-List" /><!--[if gte mso 9]><xml>\n <w:WordDocument>\n  <w:View>Normal</w:View>\n  <w:Zoom>0</w:Zoom>\n  <w:PunctuationKerning />\n  <w:ValidateAgainstSchemas />\n  <w:SaveIfXMLInvalid>false</w:SaveIfXMLInvalid>\n  <w:IgnoreMixedContent>false</w:IgnoreMixedContent>\n  <w:AlwaysShowPlaceholderText>false</w:AlwaysShowPlaceholderText>\n  <w:Compatibility>\n   <w:BreakWrappedTables />\n   <w:SnapToGridInCell />\n   <w:WrapTextWithPunct />\n   <w:UseAsianBreakRules />\n   <w:DontGrowAutofit />\n  </w:Compatibility>\n  <w:BrowserLevel>MicrosoftInternetExplorer4</w:BrowserLevel>\n </w:WordDocument>\n</xml><![endif]--><!--[if gte mso 9]><xml>\n <w:LatentStyles DefLockedState="false" LatentStyleCount="156">\n </w:LatentStyles>\n</xml><![endif]--><style type="text/css">\n<!--\n /* Style Definitions */\n p.MsoNormal\, li.MsoNormal\, div.MsoNormal\n	{mso-style-parent:""\;\n	margin:0in\;\n	margin-bottom:.0001pt\;\n	mso-pagination:widow-orphan\;\n	font-size:12.0pt\;\n	font-family:"Times New Roman"\;\n	mso-fareast-font-family:"Times New Roman"\;}\n@page Section1\n	{size:8.5in 11.0in\;\n	margin:1.0in 1.25in 1.0in 1.25in\;\n	mso-header-margin:.5in\;\n	mso-footer-margin:.5in\;\n	mso-paper-source:0\;}\ndiv.Section1\n	{page:Section1\;}\n /* List Definitions */\n @list l0\n	{mso-list-id:1404327325\;\n	mso-list-type:hybrid\;\n	mso-list-template-ids:2008424924 67698689 67698691 67698693 67698689 67698691 67698693 67698689 67698691 67698693\;}\n@list l0:level1\n	{mso-level-number-format:bullet\;\n	mso-level-text:ï?·\;\n	mso-level-tab-stop:.5in\;\n	mso-level-number-position:left\;\n	text-indent:-.25in\;\n	font-family:Symbol\;}\n@list l0:level2\n	{mso-level-number-format:bullet\;\n	mso-level-text:o\;\n	mso-level-tab-stop:1.0in\;\n	mso-level-number-position:left\;\n	text-indent:-.25in\;\n	font-family:"Courier New"\;}\n@list l0:level3\n	{mso-level-tab-stop:1.5in\;\n	mso-level-number-position:left\;\n	text-indent:-.25in\;}\n@list l0:level4\n	{mso-level-tab-stop:2.0in\;\n	mso-level-number-position:left\;\n	text-indent:-.25in\;}\n@list l0:level5\n	{mso-level-tab-stop:2.5in\;\n	mso-level-number-position:left\;\n	text-indent:-.25in\;}\n@list l0:level6\n	{mso-level-tab-stop:3.0in\;\n	mso-level-number-position:left\;\n	text-indent:-.25in\;}\n@list l0:level7\n	{mso-level-tab-stop:3.5in\;\n	mso-level-number-position:left\;\n	text-indent:-.25in\;}\n@list l0:level8\n	{mso-level-tab-stop:4.0in\;\n	mso-level-number-position:left\;\n	text-indent:-.25in\;}\n@list l0:level9\n	{mso-level-tab-stop:4.5in\;\n	mso-level-number-position:left\;\n	text-indent:-.25in\;}\nol\n	{margin-bottom:0in\;}\nul\n	{margin-bottom:0in\;}\n-->\n</style><!--[if gte mso 10]>\n<style>\n /* Style Definitions */\n table.MsoNormalTable\n	{mso-style-name:"Table Normal"\;\n	mso-tstyle-rowband-size:0\;\n	mso-tstyle-colband-size:0\;\n	mso-style-noshow:yes\;\n	mso-style-parent:""\;\n	mso-padding-alt:0in 5.4pt 0in 5.4pt\;\n	mso-para-margin:0in\;\n	mso-para-margin-bottom:.0001pt\;\n	mso-pagination:widow-orphan\;\n	font-size:10.0pt\;\n	font-family:"Times New Roman"\;\n	mso-ansi-language:#0400\;\n	mso-fareast-language:#0400\;\n	mso-bidi-language:#0400\;}\n</style>\n<![endif]--></div><div><span style="font-size: 10pt\; font-family: Arial\;">Jump start the holiday season       by attending the Outlets at Loveland Annual Tree Lighting! From 3- 7pm\,       there will be family events\, special savings\, hot cocoa\, entertainment       from the Loveland High School Marching Band\, goody bags as well as Santa       Clause helping us light up our Christmas trees! Don&rsquo\;t miss it! <o:p></o:p></span></div>
LOCATION:
UID:e.593.7
SEQUENCE:3
DTSTAMP:20260419T190405Z
URL:https://business.loveland.org/events/details/annual-tree-lighting-11-14-2009-7
END:VEVENT

END:VCALENDAR
