BEGIN:VCALENDAR
VERSION:2.0
PRODID:-//ChamberMaster//Event Calendar 2.0//EN
METHOD:PUBLISH
X-PUBLISHED-TTL:P3D
REFRESH-INTERVAL:P3D
CALSCALE:GREGORIAN
BEGIN:VEVENT
DTSTART;VALUE=DATE:20100215
DTEND;VALUE=DATE:20100301
TRANSP:TRANSPARENT
X-MICROSOFT-CDO-ALLDAYEVENT:TRUE
SUMMARY:Art of Dining
DESCRIPTION:Engaging Loveland\, Inc. is hosting the 2nd annual  Art of Dining in Loveland\, which will offer dinner deals throughout the community.  Each restaurant creates its own menu with the set price of $18.77 for the year that Loveland was established. Some restaurants will offer a family-for-four dinner option\, while other restaurants will have a dinner for two and some may have a four-course meal.
X-ALT-DESC;FMTTYPE=text/html:Engaging Loveland\, Inc. is hosting the 2nd annual  Art of Dining in Loveland\, which will offer dinner deals throughout the community.  Each restaurant creates its own menu with the set price of $18.77 for the year that Loveland was established. Some restaurants will offer a family-for-four dinner option\, while other restaurants will have a dinner for two and some may have a four-course meal.
LOCATION:Various Loveland Restaurants
UID:e.593.2036
SEQUENCE:3
DTSTAMP:20260419T160255Z
URL:https://business.loveland.org/events/details/art-of-dining-02-15-2010-2036
END:VEVENT

END:VCALENDAR
