BEGIN:VCALENDAR
VERSION:2.0
PRODID:-//ChamberMaster//Event Calendar 2.0//EN
METHOD:PUBLISH
X-PUBLISHED-TTL:P3D
REFRESH-INTERVAL:P3D
CALSCALE:GREGORIAN
BEGIN:VEVENT
DTSTART:20091108T010000Z
DTEND:20091108T050000Z
X-MICROSOFT-CDO-ALLDAYEVENT:FALSE
SUMMARY:BBQ & Bluegrass at the Loveland Feed & Grain
DESCRIPTION:The first weekend in November is just days away now\, and that can only mean one thing in Downtown Loveland. It?s time for the 2nd Annual Feed & Grain Fundraiser. Saturday\, November 7th offers a fun evening under a huge heated tent and white lights\, all while enjoying a Nordy?s BBQ feast\, an open bar\, and live music by local bluegrass band Finders & Youngberg. The event also features a Fine Art Gallery auction\, and silent auction with items from local Northern Colorado businesses.
X-ALT-DESC;FMTTYPE=text/html:The first weekend in November is just days away now\, and that can only mean one thing in Downtown Loveland. It?s time for the 2nd Annual Feed & Grain Fundraiser. Saturday\, November 7th offers a fun evening under a huge heated tent and white lights\, all while enjoying a Nordy?s BBQ feast\, an open bar\, and live music by local bluegrass band Finders & Youngberg. The event also features a Fine Art Gallery auction\, and silent auction with items from local Northern Colorado businesses.
LOCATION:Loveland Feed & Grain 130 W. 3rd Street Loveland\, CO 80537
UID:e.593.1902
SEQUENCE:3
DTSTAMP:20260419T190936Z
URL:https://business.loveland.org/events/details/bbq-bluegrass-at-the-loveland-feed-grain-11-07-2009-1902
END:VEVENT

END:VCALENDAR
