BEGIN:VCALENDAR
VERSION:2.0
PRODID:-//ChamberMaster//Event Calendar 2.0//EN
METHOD:PUBLISH
X-PUBLISHED-TTL:P3D
REFRESH-INTERVAL:P3D
CALSCALE:GREGORIAN
BEGIN:VEVENT
DTSTART:20091208T203000Z
DTEND:20091208T213000Z
X-MICROSOFT-CDO-ALLDAYEVENT:FALSE
SUMMARY:Bob Cooke and the Poudre Valley Irregulars
DESCRIPTION:Group Singers
X-ALT-DESC;FMTTYPE=text/html:Group Singers
LOCATION:Sugar Valley Estates Activity Room 4320 Georgetown Drive Loveland\, CO 80538
UID:e.593.2058
SEQUENCE:3
DTSTAMP:20260419T190834Z
URL:https://business.loveland.org/events/details/bob-cooke-and-the-poudre-valley-irregulars-12-08-2009-2058
END:VEVENT

END:VCALENDAR
