BEGIN:VCALENDAR
VERSION:2.0
PRODID:-//ChamberMaster//Event Calendar 2.0//EN
METHOD:PUBLISH
X-PUBLISHED-TTL:P3D
REFRESH-INTERVAL:P3D
CALSCALE:GREGORIAN
BEGIN:VEVENT
DTSTART:20091016T220000Z
DTEND:20091017T000000Z
X-MICROSOFT-CDO-ALLDAYEVENT:FALSE
SUMMARY:Boys & Girls Clubs Sculpture Dedication
DESCRIPTION:You are invited to attend the dedication of "Need a  Lift?" created by Randy Hand\, donated by the Loveland Sculpture group to the  Boys & Girls Clubs of Larimer County.
X-ALT-DESC;FMTTYPE=text/html:<div><p class="MsoNormal"><font size="4" face="Times New Roman"><span style="font-size: 13.5pt\;">You&nbsp\;are invited to attend the dedication of &quot\;Need a  Lift?&quot\; created by Randy Hand\, donated by the Loveland Sculpture group to the  Boys &amp\; Girls Clubs of Larimer County.</span></font><o:p></o:p></p></div> <div>&nbsp\;</div><div><p class="MsoNormal"><font size="3" face="Times New Roman"><span style="font-size: 12pt\;">&nbsp\;<o:p></o:p></span></font></p></div>
LOCATION:Loveland Boys & Girls Club\, 2500 E.1st Street
UID:e.593.4
SEQUENCE:3
DTSTAMP:20260419T205057Z
URL:https://business.loveland.org/events/details/boys-girls-clubs-sculpture-dedication-10-16-2009-4
END:VEVENT

END:VCALENDAR
