BEGIN:VCALENDAR
VERSION:2.0
PRODID:-//ChamberMaster//Event Calendar 2.0//EN
METHOD:PUBLISH
X-PUBLISHED-TTL:P3D
REFRESH-INTERVAL:P3D
CALSCALE:GREGORIAN
BEGIN:VEVENT
DTSTART:20091022T013000Z
DTEND:20091022T030000Z
X-MICROSOFT-CDO-ALLDAYEVENT:FALSE
SUMMARY:BRAVO! Series - Stringfever
DESCRIPTION:From London...the world's first genetically modified string quartet. To be held at the Roberta Price Auditorium\, Thompson Valley High School\, 1669 Eagle Drive. For more info\, visit www.lovelandpaa.org or call 970-663-9420
X-ALT-DESC;FMTTYPE=text/html:<div><span class="Apple-style-span" style="widows: 2\; text-transform: none\; text-indent: 0px\; border-collapse: separate\; font: medium 'Times New Roman'\; white-space: normal\; orphans: 2\; letter-spacing: normal\; color: rgb(0\,0\,0)\; word-spacing: 0px\; -webkit-border-horizontal-spacing: 0px\; -webkit-border-vertical-spacing: 0px\; -webkit-text-decorations-in-effect: none\; -webkit-text-size-adjust: auto\; -webkit-text-stroke-width: 0px"><span class="Apple-style-span" style="font-family: Verdana\, Arial\, sans-serif\; font-size: 11px">From London...the world's first genetically modified string quartet. To be held at the Roberta Price Auditorium\, Thompson Valley High School\, 1669 Eagle Drive. For more info\, visit www.lovelandpaa.org or call 970-663-9420</span></span></div>
LOCATION:
UID:e.593.1615
SEQUENCE:3
DTSTAMP:20260419T203003Z
URL:https://business.loveland.org/events/details/bravo-series-stringfever-10-21-2009-1615
END:VEVENT

END:VCALENDAR
