BEGIN:VCALENDAR
VERSION:2.0
PRODID:-//ChamberMaster//Event Calendar 2.0//EN
METHOD:PUBLISH
X-PUBLISHED-TTL:P3D
REFRESH-INTERVAL:P3D
CALSCALE:GREGORIAN
BEGIN:VEVENT
DTSTART:20260505T210000Z
DTEND:20260506T010000Z
X-MICROSOFT-CDO-ALLDAYEVENT:FALSE
SUMMARY:Builder Product Expo – A Celebration of Our Builder Members!
DESCRIPTION:It's Back!  The NoCo HBA Builder Product Expo   A Celebration of Our Builder Members   returns as Northern Colorado's Official HBA Expo!\n\nJoin us at Embassy Suites in Loveland for Northern Colorado's premier event dedicated exclusively to connecting home builders and remodelers with the products\, services\, and trade partners they rely on to build. This is where builders discover new vendors\, strengthen relationships\, and explore solutions for upcoming projects.\n\nEnjoy an engaging afternoon and evening filled with:\n\n\n	\n	Networking with industry professionals\n	\n	\n	Breakout sessions\n	\n	\n	Vendor booths & hands-on product exploration\n	\n	\n	Food & beverages while touring the Expo floor\n	\n	\n	Drink tickets from exhibitors as you connect and explore\n	\n\n\nThis year's event is proudly presented by NoCo HBA & Signature Stone. Builder members attend at no cost\, so bring your teams and take full advantage of this valuable opportunity.\n\nAssociates: If connecting with builder members is part of your business plan\, this is the most valuable event of the year to showcase your company. Secure your booth or sponsorship today by contacting Victoria Hall\, Executive Officer. Must be a member to secure a showcase your business\n\nAnd yes   we're celebrating Cinco de Mayo style! Get ready for a festive theme\, great energy\, and a trade partner fiesta you won't want to miss.\n\nInterested in joining our Association? Call or email us today to learn more.\n\n \n\nWe can't wait to see you there!
X-ALT-DESC;FMTTYPE=text/html:<p>It&rsquo\;s Back!&nbsp\; The NoCo HBA <strong>Builder Product Expo &mdash\; A Celebration of Our Builder Members</strong> &mdash\; returns as Northern Colorado&rsquo\;s Official HBA Expo!</p>\n\n<p>Join us at Embassy Suites in Loveland for Northern Colorado&rsquo\;s premier event dedicated exclusively to connecting home builders and remodelers with the products\, services\, and trade partners they rely on to build. This is where builders discover new vendors\, strengthen relationships\, and explore solutions for upcoming projects.</p>\n\n<p>Enjoy an engaging afternoon and evening filled with:</p>\n\n<ul>\n	<li>\n	<p>Networking with industry professionals</p>\n	</li>\n	<li>\n	<p>Breakout sessions</p>\n	</li>\n	<li>\n	<p>Vendor booths &amp\; hands-on product exploration</p>\n	</li>\n	<li>\n	<p>Food &amp\; beverages while touring the Expo floor</p>\n	</li>\n	<li>\n	<p>Drink tickets from exhibitors as you connect and explore</p>\n	</li>\n</ul>\n\n<p>This year&rsquo\;s event is proudly presented by NoCo HBA &amp\; Signature Stone. <strong>Builder members attend at no cost</strong>\, so bring your teams and take full advantage of this valuable opportunity.</p>\n\n<p><strong>Associates:</strong> If connecting with builder members is part of your business plan\, this is the most valuable event of the year to showcase your company. Secure your booth or sponsorship today by contacting Victoria Hall\, Executive Officer. Must be a member to secure a showcase your business</p>\n\n<p>And yes &mdash\; we&rsquo\;re celebrating Cinco de Mayo style! Get ready for a festive theme\, great energy\, and a trade partner fiesta you won&rsquo\;t want to miss.</p>\n\n<p>Interested in joining our Association? Call or email us today to learn more.<br />\n&nbsp\;</p>\n\n<p>We can&rsquo\;t wait to see you there!</p>\n
LOCATION:Embassy Suites(Mountain Holly)
UID:e.593.26537
SEQUENCE:3
DTSTAMP:20260420T073233Z
URL:https://business.loveland.org/events/details/builder-product-expo-a-celebration-of-our-builder-members-26537
END:VEVENT

END:VCALENDAR
