BEGIN:VCALENDAR
VERSION:2.0
PRODID:-//ChamberMaster//Event Calendar 2.0//EN
METHOD:PUBLISH
X-PUBLISHED-TTL:P3D
REFRESH-INTERVAL:P3D
CALSCALE:GREGORIAN
BEGIN:VEVENT
DTSTART:20100210T140000Z
DTEND:20100210T153000Z
X-MICROSOFT-CDO-ALLDAYEVENT:FALSE
SUMMARY:Building Incredible Kids Breakfast ~ Share the Love
DESCRIPTION:The Boys & Girls Clubs of Larimer County prodives an envirmoment tha helps young people reach their full potential as caring\, productive\, citzens.  Come have breakfast with our Youth of the Year and Youths of the Month\, and hear success stories of how Boys & Girls Clubs is helping kids BE Great!\nAll proceeds to benefit the Boys & Girls Clubs and youth.
X-ALT-DESC;FMTTYPE=text/html:The Boys & Girls Clubs of Larimer County prodives an envirmoment tha helps young people reach their full potential as caring\, productive\, citzens.  Come have breakfast with our Youth of the Year and Youths of the Month\, and hear success stories of how Boys & Girls Clubs is helping kids BE Great!\nAll proceeds to benefit the Boys & Girls Clubs and youth.\n
LOCATION:Embassy Suites\, Clydesdale Parkway\, Loveland
UID:e.593.1894
SEQUENCE:3
DTSTAMP:20260419T143709Z
URL:https://business.loveland.org/events/details/building-incredible-kids-breakfast-share-the-love-02-10-2010-1894
END:VEVENT

END:VCALENDAR
