BEGIN:VCALENDAR
VERSION:2.0
PRODID:-//ChamberMaster//Event Calendar 2.0//EN
METHOD:PUBLISH
X-PUBLISHED-TTL:P3D
REFRESH-INTERVAL:P3D
CALSCALE:GREGORIAN
BEGIN:VEVENT
DTSTART:20260206T160000Z
DTEND:20260206T170000Z
X-MICROSOFT-CDO-ALLDAYEVENT:FALSE
SUMMARY:Busines Club of Colorado Club Coffee Networking
DESCRIPTION:Join us for coffee to share leads\, referrals and your business story with other business professional. Each Friday at 9 am we host a social/business networking event.  Business Club of Colorado members and non-members can attend this FREE networking event in our business clubhouse.  Build business connections and relationship.  Everyone can give their 1 minute "pitch" and two people each week can sign up to give a 15 minute detailed presentation.  Drop in for networking and then tour the club cafe\, meeting rooms\, co-working space\, podcast room and more!
X-ALT-DESC;FMTTYPE=text/html:<span style="background-color:rgb(255\, 255\, 255)\; color:rgb(51\, 51\, 51)\; font-family:sans-serif\,arial\,verdana\,trebuchet ms\; font-size:13px">Join us for coffee to share leads\, referrals and your business story with other business professional. Each Friday at 9 am we host a social/business networking event.&nbsp\; Business Club of Colorado members and non-members can attend this FREE networking event in our business clubhouse.&nbsp\; Build business connections and relationship.&nbsp\; Everyone can give their 1 minute &quot\;pitch&quot\; and two people each week can sign up to give a 15 minute detailed presentation.&nbsp\; Drop in for networking and then tour the club cafe\, meeting rooms\, co-working space\, podcast room and more!</span>
LOCATION:3800 Automation Way Suite 107 SW corner of building Fort Collins\, CO 80525
UID:e.593.26348
SEQUENCE:3
DTSTAMP:20260420T103318Z
URL:https://business.loveland.org/events/details/busines-club-of-colorado-club-coffee-networking-02-06-2026-26348
END:VEVENT

END:VCALENDAR
