BEGIN:VCALENDAR
VERSION:2.0
PRODID:-//ChamberMaster//Event Calendar 2.0//EN
METHOD:PUBLISH
X-PUBLISHED-TTL:P3D
REFRESH-INTERVAL:P3D
CALSCALE:GREGORIAN
BEGIN:VEVENT
DTSTART:20260501T150000Z
DTEND:20260501T160000Z
X-MICROSOFT-CDO-ALLDAYEVENT:FALSE
SUMMARY:Busines Club of Colorado Club Coffee Networking
DESCRIPTION:Network with like minded business professionals at our unique business club.  Share leads\, referrals and ideas in a club setting.  Each Friday at 9 am we host a business social event for chamber members and other local businesses.  Give your 1 minute presentation and also sign up to be one of two presenters each week to give a detailed 15 minute introduction about your business.  FREE  Then tour the club cafe\, conference rooms\, golf simulator\, podcast room and more!
X-ALT-DESC;FMTTYPE=text/html:Network with like minded business professionals at our unique business club.&nbsp\; Share leads\, referrals and ideas in a club setting.&nbsp\; Each Friday at 9 am we host a business social event for chamber members and other local businesses.&nbsp\; Give your 1 minute presentation and also sign up to be one of two presenters each week to give a detailed 15 minute introduction about your business.&nbsp\; FREE&nbsp\; Then tour the club cafe\, conference rooms\, golf simulator\, podcast room and more!&nbsp\;
LOCATION:The Business Club of Colorado 3800 Automation Way\, Suite 107 SW corner of the building Fort Collins\, CO 80525
UID:e.593.26161
SEQUENCE:3
DTSTAMP:20260420T073358Z
URL:https://business.loveland.org/events/details/busines-club-of-colorado-club-coffee-networking-05-01-2026-26161
END:VEVENT

END:VCALENDAR
