BEGIN:VCALENDAR
VERSION:2.0
PRODID:-//ChamberMaster//Event Calendar 2.0//EN
METHOD:PUBLISH
X-PUBLISHED-TTL:P3D
REFRESH-INTERVAL:P3D
CALSCALE:GREGORIAN
BEGIN:VEVENT
DTSTART:20100108T003000Z
DTEND:20100108T023000Z
X-MICROSOFT-CDO-ALLDAYEVENT:FALSE
SUMMARY:Business After Hours 1/07/10
DESCRIPTION:Business After Hours is a private party for Chamber members and their guests only.  Payment must be submitted with registration\, including payment for guests. Cancellation Policy: no refunds are offered for Business After Hours. For more information\, contact the Chamber at 667-6311.
X-ALT-DESC;FMTTYPE=text/html:<div>Business After Hours is a private party for Chamber members and their guests only.&nbsp\;</div><div>&nbsp\;</div><div>Payment must be submitted with registration\, including payment for guests. Cancellation Policy: no refunds are offered for Business After Hours. For more information\, contact the Chamber at 667-6311.</div>
LOCATION:Orchards Athletic Club\, 289 East 29th Street\, Loveland\, CO 80538
UID:e.593.2063
SEQUENCE:3
DTSTAMP:20260419T173243Z
URL:https://business.loveland.org/events/details/business-after-hours-1-07-10-01-07-2010-2063
END:VEVENT

END:VCALENDAR
