BEGIN:VCALENDAR
VERSION:2.0
PRODID:-//ChamberMaster//Event Calendar 2.0//EN
METHOD:PUBLISH
X-PUBLISHED-TTL:P3D
REFRESH-INTERVAL:P3D
CALSCALE:GREGORIAN
BEGIN:VEVENT
DTSTART:20091204T003000Z
DTEND:20091204T020000Z
X-MICROSOFT-CDO-ALLDAYEVENT:FALSE
SUMMARY:Business After Hours-December
DESCRIPTION:Business After Hours is a private party for Chamber members and their guests only.  Payment must be submitted with registration\, including payment for guests. Cancellation Policy: no refunds are offered for Business After Hours. For more information\, contact the Chamber at 667-6311.
X-ALT-DESC;FMTTYPE=text/html:<div>Business After Hours is a private party for Chamber members and their guests only.&nbsp\;</div><div>&nbsp\;</div><div>Payment must be submitted with registration\, including payment for guests. Cancellation Policy: no refunds are offered for Business After Hours. For more information\, contact the Chamber at 667-6311.</div>
LOCATION:The Hillcrest535 North Douglas Avenue Loveland\, CO 80537
UID:e.593.1483
SEQUENCE:3
DTSTAMP:20260419T190801Z
URL:https://business.loveland.org/events/details/business-after-hours-december-12-03-2009-1483
END:VEVENT

END:VCALENDAR
