BEGIN:VCALENDAR
VERSION:2.0
PRODID:-//ChamberMaster//Event Calendar 2.0//EN
METHOD:PUBLISH
X-PUBLISHED-TTL:P3D
REFRESH-INTERVAL:P3D
CALSCALE:GREGORIAN
BEGIN:VEVENT
DTSTART:20100205T003000Z
DTEND:20100205T020000Z
X-MICROSOFT-CDO-ALLDAYEVENT:FALSE
SUMMARY:Business After Hours-February
DESCRIPTION:Advancement in Technology Celebrate Business and McKee's Advancement in Technology with the introduction of its Simulation System and the da Vinci Robot Business After Hours is a private party for Chamber members and their guests only.  Payment must be submitted with registration\, including payment for guests. Cancellation Policy: no refunds are offered for Business After Hours. For more information\, contact the Chamber at 667-6311.
X-ALT-DESC;FMTTYPE=text/html:<div id="divDescription" style="border-bottom: rgb(168\,189\,204) 2px solid\; border-left: rgb(168\,189\,204) 2px solid\; padding-bottom: 2px\; overflow-y: scroll\; padding-left: 2px\; padding-right: 2px\; height: 95px\; border-top: rgb(168\,189\,204) 2px solid\; border-right: rgb(168\,189\,204) 2px solid\; padding-top: 2px"><div id="divDescription" style="border-bottom: rgb(168\,189\,204) 2px solid\; border-left: rgb(168\,189\,204) 2px solid\; padding-bottom: 2px\; overflow-y: scroll\; padding-left: 2px\; width: 496px\; padding-right: 2px\; height: 95px\; border-top: rgb(168\,189\,204) 2px solid\; border-right: rgb(168\,189\,204) 2px solid\; padding-top: 2px"><div><div style="margin: 0in 0in 0pt"><span style="font-size: larger">Advancement in Technology</span></div><div style="margin: 0in 0in 0pt"><span style="font-size: larger">&nbsp\;</span></div><div style="margin: 0in 0in 0pt"><span style="font-size: larger">Celebrate Business and McKee&rsquo\;s Advancement in Technology with the introduction of its Simulation System and the da Vinci Robot</span></div></div><div><span style="font-size: larger">&nbsp\;</span></div><div><span style="font-size: larger">Business After Hours is a private party for Chamber members and their guests only.&nbsp\;</span></div><div><span style="font-size: larger">&nbsp\;</span></div><div><span style="font-size: larger">Payment must be submitted with registration\, including payment for guests. Cancellation Policy: no refunds are offered for Business After Hours. For more information\, contact the Chamber at 667-6311.</span></div></div></div>
LOCATION:McKee Medical Center2000 Boise Avenue
UID:e.593.2101
SEQUENCE:3
DTSTAMP:20260419T143627Z
URL:https://business.loveland.org/events/details/business-after-hours-february-02-04-2010-2101
END:VEVENT

END:VCALENDAR
