BEGIN:VCALENDAR
VERSION:2.0
PRODID:-//ChamberMaster//Event Calendar 2.0//EN
METHOD:PUBLISH
X-PUBLISHED-TTL:P3D
REFRESH-INTERVAL:P3D
CALSCALE:GREGORIAN
BEGIN:VEVENT
DTSTART:20091106T003000Z
DTEND:20091106T020000Z
X-MICROSOFT-CDO-ALLDAYEVENT:FALSE
SUMMARY:Business After Hours-November
DESCRIPTION:Business After Hours is a private party for Chamber members and their guests only.  Cancellation Policy: no refunds are offered for Business After Hours.
X-ALT-DESC;FMTTYPE=text/html:<div>Business After Hours is a private party for Chamber members and their guests only.&nbsp\; Cancellation Policy: no refunds are offered for Business After Hours.</div>
LOCATION:Business After Hours will be held at CSU Continuing Education's Loveland Learning facility\, located at Loveland Learning Center\, 2915 Rocky Mountain Ave.\, Suite 240 Loveland\, CO 80538.
UID:e.593.1176
SEQUENCE:3
DTSTAMP:20260419T190817Z
URL:https://business.loveland.org/events/details/business-after-hours-november-11-05-2009-1176
END:VEVENT

END:VCALENDAR
