BEGIN:VCALENDAR
VERSION:2.0
PRODID:-//ChamberMaster//Event Calendar 2.0//EN
METHOD:PUBLISH
X-PUBLISHED-TTL:P3D
REFRESH-INTERVAL:P3D
CALSCALE:GREGORIAN
BEGIN:VEVENT
DTSTART:20130116T143000Z
DTEND:20130116T160000Z
X-MICROSOFT-CDO-ALLDAYEVENT:FALSE
SUMMARY:Business Before Hours - Great Western Bank
DESCRIPTION:Business Before Hours is open to both Loveland Chamber investors and non-members. Designed to offer a quick networking environment BEFORE you begin your work day\, Business Before Hours is an excellent opportunity to enhance visibility and expand your business network.
X-ALT-DESC;FMTTYPE=text/html:<strong>Business Before Hours</strong> is open to both Loveland Chamber investors and non-members. Designed to offer a quick networking environment BEFORE you begin your work day\, Business Before Hours is an excellent opportunity to enhance visibility and expand your business network.
LOCATION:Great Western Bank 3800 East 15th Street\, Loveland\, CO 80538 970-624-0550
UID:e.593.6491
SEQUENCE:3
DTSTAMP:20260419T125856Z
URL:https://business.loveland.org/events/details/business-before-hours-great-western-bank-01-16-2013-6491
END:VEVENT

END:VCALENDAR
