BEGIN:VCALENDAR
VERSION:2.0
PRODID:-//ChamberMaster//Event Calendar 2.0//EN
METHOD:PUBLISH
X-PUBLISHED-TTL:P3D
REFRESH-INTERVAL:P3D
CALSCALE:GREGORIAN
BEGIN:VEVENT
DTSTART:20100120T190000Z
DTEND:20100120T203000Z
X-MICROSOFT-CDO-ALLDAYEVENT:FALSE
SUMMARY:Business InSights: Downtown Business
DESCRIPTION:Loveland Chamber and Chase Present Business InSights: Downtown Loveland's role in city's business successLOVELAND\, Colo.   Dec. 15\, 2009   The Loveland Chamber of Commerce today announced its next Business InSight Series\, sponsored by Chase. Event details are below. What: Loveland Chamber of Commerce's Business InSight Series\, 'Downtown Loveland's role in the city's business success'. This panel discussion will focus on why downtown business matters to Loveland's economic future and what can and is being done to ensure downtown's role. When: noon to 1:30 p.m. on Wed. Jan\, 20\, 2010Where: Loveland MuseumDetails:  Lunch will be provided for this panel session. Please plan to arrive between 11:45 a.m. and noon for a prompt start.Participants: This panel will be moderated by Christine Kapperman\, managing editor of the Loveland Reporter Herald. Panel will include: Carol Johnson\, member of the Loveland Downtown team\, Mike Scholl\, downtown city planner\, Norm Toman\, long time downtown business owner of Art of the RockiesFees and Registration: $10 for Loveland Chamber investors\; $15 for everyone else. Register online at www.loveland.org by 5:00 p.m. Monday\, Jan. 18\, 2010.
X-ALT-DESC;FMTTYPE=text/html:<div><div style="text-align: center\; margin: 0in 0in 10pt" align="center"><b><font size="2">Loveland Chamber and Chase Present Business InSights: Downtown Loveland&rsquo\;s role in city&rsquo\;s business success</font></b></div><div style="margin: 0in 0in 10pt"><font size="2">LOVELAND\, Colo. &ndash\; Dec. 15\, 2009 &ndash\; The Loveland Chamber of Commerce today announced its next Business InSight Series\, sponsored by Chase. Event details are below. </font></div><div style="margin: 0in 0in 10pt"><font size="2"><b>What:</b>&nbsp\;Loveland Chamber of Commerce&rsquo\;s Business InSight Series\, &lsquo\;Downtown Loveland&rsquo\;s role in the city&rsquo\;s business success&rsquo\;. This panel discussion will focus on why downtown business matters to Loveland&rsquo\;s economic future and what can and is being done to ensure downtown&rsquo\;s role. </font></div><div style="margin: 0in 0in 10pt"><font size="2"><b>When: </b>noon to 1:30 p.m. on Wed. Jan\, 20\, 2010</font></div><div style="margin: 0in 0in 10pt"><font size="2"><b>Where: </b>Loveland Museum</font></div><div style="margin: 0in 0in 10pt"><font size="2"><b>Details: &nbsp\;</b>Lunch will be provided for this panel session. Please plan to arrive between 11:45 a.m. and noon for a prompt start.</font></div><div style="margin: 0in 0in 10pt"><font size="2">Participants: This panel will be moderated by Christine Kapperman\, managing editor of the Loveland Reporter Herald. Panel will include:&nbsp\;Carol Johnson\, member of the Loveland Downtown team\, Mike Scholl\, downtown city planner\, Norm Toman\, long time downtown business owner of Art of the Rockies</font></div><div style="margin: 0in 0in 10pt"><font size="2"><b>Fees and Registration: </b>$10 for Loveland Chamber investors\; $15 for everyone else. Register online at </font><a href="http://www.loveland.org/"><font color="#800080" size="2">www.loveland.org</font></a><font size="2"> by 5:00 p.m. Monday\, Jan. 18\, 2010.</font></div></div>
LOCATION:Loveland Museum
UID:e.593.2073
SEQUENCE:3
DTSTAMP:20260419T173402Z
URL:https://business.loveland.org/events/details/business-insights-downtown-business-01-20-2010-2073
END:VEVENT

END:VCALENDAR
