BEGIN:VCALENDAR
VERSION:2.0
PRODID:-//ChamberMaster//Event Calendar 2.0//EN
METHOD:PUBLISH
X-PUBLISHED-TTL:P3D
REFRESH-INTERVAL:P3D
CALSCALE:GREGORIAN
BEGIN:VEVENT
DTSTART:20091022T133000Z
DTEND:20091022T150000Z
X-MICROSOFT-CDO-ALLDAYEVENT:FALSE
SUMMARY:Business InSights Series - 'Lodging Tax\, why and why now'
DESCRIPTION:Loveland residents will be faced with the upcoming November ballot issue on implementing a lodging tax for guests who visit our city. The Loveland Chamber of Commerce's Business InSights Series presents the panel\, 'Lodging Tax - why and why now' featuring Mayor Gene Pielin\, Gary Wheat\, executive director of the Longmont Area Visitors Association and Cynthia Eichler with the Foothills Mall in Fort Collins to discuss the benefits and forecasts for the city of Loveland and a view into how Longmont is doing since it implemented a lodging tax on the last ballot. Breakfast will be provided.
X-ALT-DESC;FMTTYPE=text/html:<div>Loveland residents will be faced with the upcoming November ballot issue on implementing a lodging tax for guests who visit our city. The Loveland Chamber of Commerce&rsquo\;s Business InSights Series presents the panel\, &rsquo\;Lodging Tax - why and why now&rsquo\; featuring Mayor Gene Pielin\, Gary Wheat\, executive director of the Longmont Area Visitors Association and Cynthia Eichler with the Foothills Mall in Fort Collins to discuss the benefits and forecasts for the city of Loveland and a view into how Longmont is doing since it implemented a lodging tax on the last ballot.</div><div>&nbsp\;</div><div>Breakfast will be provided.</div><div>&nbsp\;</div>
LOCATION:Embassy Suites Loveland4705 Cydesdale PkwyLoveland\, Colo. 80538
UID:e.593.15
SEQUENCE:3
DTSTAMP:20260419T220103Z
URL:https://business.loveland.org/events/details/business-insights-series-lodging-tax-why-and-why-now-10-22-2009-15
END:VEVENT

END:VCALENDAR
