BEGIN:VCALENDAR
VERSION:2.0
PRODID:-//ChamberMaster//Event Calendar 2.0//EN
METHOD:PUBLISH
X-PUBLISHED-TTL:P3D
REFRESH-INTERVAL:P3D
CALSCALE:GREGORIAN
BEGIN:VEVENT
DTSTART:20100318T180000Z
DTEND:20100318T193000Z
X-MICROSOFT-CDO-ALLDAYEVENT:FALSE
SUMMARY:CANCELLED: Business Insights - Green Business and Northern Colorado
DESCRIPTION:DUE TO CONFLICTS\, THIS EVENT HAS BEEN CANCELLED. Join us as panelists discuss current and future plans\, policy and potential for green business in Northern Colorado. Moderated by Kristen Tatti with the Northern Colorado Business Report\, this panel will include local business leaders\, legislators and economists to discuss the real impact for green business in Northern Colorado. Held at the Loveland Chamber of Commerce. Check back for details.
X-ALT-DESC;FMTTYPE=text/html:<div>DUE TO CONFLICTS\, THIS EVENT HAS BEEN CANCELLED.</div><div>&nbsp\;</div><div>Join us as panelists discuss current and future plans\, policy and potential for green business in Northern Colorado. Moderated by Kristen Tatti with the Northern Colorado Business Report\, this panel will include local business leaders\, legislators and economists to discuss the real&nbsp\;impact for green business in Northern Colorado. Held at the Loveland Chamber of Commerce. Check back for details.</div>
LOCATION:
UID:e.593.2551
SEQUENCE:3
DTSTAMP:20260419T130312Z
URL:https://business.loveland.org/events/details/cancelled-business-insights-green-business-and-northern-colorado-03-18-2010-2551
END:VEVENT

END:VCALENDAR
