BEGIN:VCALENDAR
VERSION:2.0
PRODID:-//ChamberMaster//Event Calendar 2.0//EN
METHOD:PUBLISH
X-PUBLISHED-TTL:P3D
REFRESH-INTERVAL:P3D
CALSCALE:GREGORIAN
BEGIN:VEVENT
DTSTART:20100217T150000Z
DTEND:20100217T160000Z
X-MICROSOFT-CDO-ALLDAYEVENT:FALSE
SUMMARY:Celebrate Heart Health Month with MCR
DESCRIPTION:Enjoy a heart healthy breakfast and learn about the latest advancements in women's heart health.\nWednesday\, February 17\, 2010\n8:00 a.m. to 9:00 a.m.\nMedical Center of the Rockies - Long's Peak Room\n2500 Rocky Mountain Avenue - Loveland\, Colorado\nFree to attend\nDr. Wendy Austin\, Heart Center of the Rockies\nThe Spectrum of Cardiovascular Disease in Women:\nGetting to the Heart of the Matter\nContact Shannon by February10th to reserve your seats\nsmm13@pvhs.org or 970-237-7406The event is next Wednesday\,  February 17\, from 8 to 9 a.m. at MCR's Long's Peak Room (which is downstairs\,  across from the cafeteria).
X-ALT-DESC;FMTTYPE=text/html:<p class="MsoNormal"><font size="2" face="Arial"><span style="font-family: Arial\; font-size: 10pt\;">Enjoy a heart healthy breakfast and learn about the latest advancements in women&rsquo\;s heart health.<br /></span></font></p><p class="MsoNormal"><font size="2" face="Arial"><span style="font-family: Arial\; font-size: 10pt\;">Wednesday\, February 17\, 2010<br />8:00 a.m. to 9:00 a.m.<br />Medical Center of the Rockies - Long&rsquo\;s Peak Room<br />2500 Rocky Mountain Avenue - Loveland\, Colorado<br /></span></font></p><p class="MsoNormal"><font size="2" face="Arial"><span style="font-family: Arial\; font-size: 10pt\;">Free to attend<br /></span></font></p><p class="MsoNormal"><font size="2" face="Arial"><span style="font-family: Arial\; font-size: 10pt\;">Dr. Wendy Austin\, Heart Center of the Rockies<br />The Spectrum of Cardiovascular Disease in Women:<br />Getting to the Heart of the Matter<br /></span></font></p><p class="MsoNormal"><font size="2" face="Arial"><span style="font-family: Arial\; font-size: 10pt\;">Contact Shannon by February10th to reserve your seats<br />smm13@pvhs.org or 970-237-7406The event is next Wednesday\,  February 17\, from 8 to 9 a.m. at MCR&rsquo\;s Long&rsquo\;s Peak Room (which is downstairs\,  across from the cafeteria). <br /></span></font></p>
LOCATION:
UID:e.593.2718
SEQUENCE:3
DTSTAMP:20260419T160651Z
URL:https://business.loveland.org/events/details/celebrate-heart-health-month-with-mcr-02-17-2010-2718
END:VEVENT

END:VCALENDAR
