BEGIN:VCALENDAR
VERSION:2.0
PRODID:-//ChamberMaster//Event Calendar 2.0//EN
METHOD:PUBLISH
X-PUBLISHED-TTL:P3D
REFRESH-INTERVAL:P3D
CALSCALE:GREGORIAN
BEGIN:VEVENT
DTSTART:20091218T190000Z
DTEND:20091218T203000Z
X-MICROSOFT-CDO-ALLDAYEVENT:FALSE
SUMMARY:CEO Connection 12/18/09
DESCRIPTION:CEO Connection is an informal luncheon with the Chamber's CEO Brian Willms and chamber investors by invitation only. This event is sponsored by United Western Bank.
X-ALT-DESC;FMTTYPE=text/html:<span style="font-size: 8.5pt\; font-family: Verdana\; color: black\;">CEO Connection is an informal luncheon with the Chamber's CEO Brian Willms and chamber investors by invitation only. This event is </span><span style="font-size: 8.5pt\; font-family: Verdana\; color: black\;">sponsored by </span><span style="font-size: 8.5pt\; font-family: Verdana\; color: black\;">United Western Bank.</span><span style="font-size: 8.5pt\; font-family: Verdana\; color: black\;"><br /></span>
LOCATION:Loveland Chamber of Commerce - 5400 Stone Creek Circle
UID:e.593.2041
SEQUENCE:3
DTSTAMP:20260419T173052Z
URL:https://business.loveland.org/events/details/ceo-connection-12-18-09-12-18-2009-2041
END:VEVENT

END:VCALENDAR
