BEGIN:VCALENDAR
VERSION:2.0
PRODID:-//ChamberMaster//Event Calendar 2.0//EN
METHOD:PUBLISH
X-PUBLISHED-TTL:P3D
REFRESH-INTERVAL:P3D
CALSCALE:GREGORIAN
BEGIN:VEVENT
DTSTART:20091013T180000Z
DTEND:20091013T193000Z
X-MICROSOFT-CDO-ALLDAYEVENT:FALSE
SUMMARY:CEO Connection by invitation only-10/13
DESCRIPTION:CEO Connection is an informal luncheon with the Chamber's CEO Brian Willms and chamber investors by invitation only. This event is held at the chamber\, 5400 Stone Creek Circle at noon and is sponsored by United Western Bank.
X-ALT-DESC;FMTTYPE=text/html:<div><span class="Apple-style-span" style="widows: 2\; text-transform: none\; text-indent: 0px\; border-collapse: separate\; font: medium 'Times New Roman'\; white-space: normal\; orphans: 2\; letter-spacing: normal\; color: rgb(0\,0\,0)\; word-spacing: 0px\; -webkit-border-horizontal-spacing: 0px\; -webkit-border-vertical-spacing: 0px\; -webkit-text-decorations-in-effect: none\; -webkit-text-size-adjust: auto\; -webkit-text-stroke-width: 0px"><span class="Apple-style-span" style="font-family: Verdana\, Arial\, sans-serif\; font-size: 11px">CEO Connection is an informal luncheon with the Chamber's CEO Brian Willms and chamber investors by invitation only. This event is held at the chamber\, 5400 Stone Creek Circle at noon and is sponsored by United Western Bank.</span></span></div>
LOCATION:Loveland Chamber of Commerce5400 Stone Creek Circle
UID:e.593.528
SEQUENCE:3
DTSTAMP:20260419T203847Z
URL:https://business.loveland.org/events/details/ceo-connection-by-invitation-only-10-13-10-13-2009-528
END:VEVENT

END:VCALENDAR
