BEGIN:VCALENDAR
VERSION:2.0
PRODID:-//ChamberMaster//Event Calendar 2.0//EN
METHOD:PUBLISH
X-PUBLISHED-TTL:P3D
REFRESH-INTERVAL:P3D
CALSCALE:GREGORIAN
BEGIN:VEVENT
DTSTART:20091026T220000Z
DTEND:20091026T223000Z
X-MICROSOFT-CDO-ALLDAYEVENT:FALSE
SUMMARY:Ceremonial Beam Raising at the Hillcrest
DESCRIPTION:Experience a day in history: Phase Two construction is underway at The Hillcrest Senior Living Community. Just two years ago\, The Hillcrest opened their doors to showcase an amazing renovation: Hillcrest Independent Living.  Loveland's original hospital and school administration building had been given a facelift and a new beginning.  The Hillcrest welcomes the Loveland community to join them in celebrating as they raise the first steel beams of phase two construction of Assisted Living and Secured Memory Care. Ceremonial beam raising will take place at 4pm. Cocktails and hors d'oeuvres to follow.  For directions or more information\, please contact The Hillcrest at (970) 593-9800 or visit www.HillcrestofLoveland.com.
X-ALT-DESC;FMTTYPE=text/html:<div><div>Experience a day in history: Phase Two construction is underway at The Hillcrest Senior Living Community.</div><div>&nbsp\;</div><div>Just two years ago\, The Hillcrest opened their doors to showcase an amazing renovation: Hillcrest Independent Living.&nbsp\; Loveland&rsquo\;s original hospital and school administration building had been given a facelift and a new beginning.&nbsp\; The Hillcrest welcomes the Loveland community to join them in celebrating as they raise the first steel beams of phase two construction of Assisted Living and Secured Memory Care.</div><div>&nbsp\;</div><div>Ceremonial beam raising will take place at 4pm. Cocktails and hors d&rsquo\;oeuvres to follow.&nbsp\; For directions or more information\, please contact The Hillcrest at (970) 593-9800 or visit <a title="blocked::http://www.hillcrestofloveland.com/" href="http://www.hillcrestofloveland.com/">www.HillcrestofLoveland.com</a>.</div><div>&nbsp\;</div></div>
LOCATION:The Hillcrest\, Exceptional Senior Residences535 North Douglas Avenue\, Loveland
UID:e.593.1886
SEQUENCE:3
DTSTAMP:20260419T215951Z
URL:https://business.loveland.org/events/details/ceremonial-beam-raising-at-the-hillcrest-10-26-2009-1886
END:VEVENT

END:VCALENDAR
