BEGIN:VCALENDAR
VERSION:2.0
PRODID:-//ChamberMaster//Event Calendar 2.0//EN
METHOD:PUBLISH
X-PUBLISHED-TTL:P3D
REFRESH-INTERVAL:P3D
CALSCALE:GREGORIAN
BEGIN:VEVENT
DTSTART:20100320T020000Z
DTEND:20100320T040000Z
X-MICROSOFT-CDO-ALLDAYEVENT:FALSE
SUMMARY:Chicago City Limits by the Rialto Theater
DESCRIPTION:Do  You Suffer From Wikiphobia? The Rialto Theater has the  Cure!   The  Rialto Theater is proud to present the hilarious comedy and improvisation of  Chicago City Limits. Wacky and  laugh out loud funny\, Chicago City Limits is New York City's legendary improve comedy show.  Founded in Chicago in 1955 by actors  participating in the Second  City workshops\, the group relocated to  New York in  1980. Their show combines sketch comedy\, musical theater and audience-inspired  improvisations. A majority of the show is created on the spot from audience  suggestions so each performance is unique.   In  Loveland\,  Chicago City Limits will present its comedy revue\, Wikiphobia. The internet is slowly seeping  into every corner of our lives and transforming the world as we know it:  "Google" is no longer just a number\; "Friend" is no longer just a noun\; and  user-generated virtual facts are as good as actual\, factual facts. In Wikiphobia\, the cast surfs the web at  high-speed\, taking issue with the issues and finding comedic links between the  biggest stories in the news. Whether it's global warming or global blogging\,  networking of Netflix\, international affairs or interpersonal ones\, Chicago City  Limits delivers an evening of fast-paced\, high-energy  comedy.
X-ALT-DESC;FMTTYPE=text/html:<h3 style="color: Red\; text-align: center\;"><b><font size="5" face="Arial" color="black"><span style="font-weight: bold\; font-size: 16pt\; color: black\; font-family: Arial\;">Do  You Suffer From Wikiphobia? The Rialto Theater has the  Cure!</span></font></b><b><font size="5" face="Arial" color="black"><span style="font-weight: bold\; font-size: 16pt\; color: black\; font-family: Arial\;"><o:p></o:p></span></font></b></h3> <p style="text-indent: 0.5in\; text-align: justify\;" class="MsoNormal"><font size="3" face="Arial" color="black"><span style="font-size: 12pt\; color: black\; font-family: Arial\;"><o:p>&nbsp\;</o:p></span></font></p> <p style="text-indent: 0.5in\;" class="MsoNormal"><font size="3" face="Arial" color="black"><span style="font-size: 12pt\; color: black\; font-family: Arial\;">The  Rialto Theater is proud to present the hilarious comedy and improvisation of  Chicago City Limits.<o:p> </o:p></span></font></p><p style="text-indent: 0.5in\;" class="MsoNormal"><font size="3" face="Arial" color="black"><span style="font-size: 12pt\; color: black\; font-family: Arial\;">Wacky and  laugh out loud funny\, Chicago City Limits is <st1:city w:st="on"><st1:place w:st="on">New York City</st1:place></st1:city>&rsquo\;s legendary improve comedy show.  Founded in <st1:city w:st="on">Chicago</st1:city> in 1955 by actors  participating in the <st1:placename w:st="on">Second</st1:placename>  <st1:placetype w:st="on">City</st1:placetype> workshops\, the group relocated to  <st1:state w:st="on"><st1:place w:st="on">New York</st1:place></st1:state> in  1980. Their show combines sketch comedy\, musical theater and audience-inspired  improvisations. A majority of the show is created on the spot from audience  suggestions so each performance is unique.<o:p></o:p></span></font></p>  <p style="text-indent: 0.5in\;" class="MsoNormal"><font size="3" face="Arial" color="black"><span style="font-size: 12pt\; color: black\; font-family: Arial\;"><o:p>&nbsp\;</o:p></span></font><font size="3" face="Arial" color="black"><span style="font-size: 12pt\; color: black\; font-family: Arial\;">In  <st1:city w:st="on"><st1:place w:st="on">Loveland</st1:place></st1:city>\,  Chicago City Limits will present its comedy revue\, <i><span style="font-style: italic\;">Wikiphobia</span></i>. The internet is slowly seeping  into every corner of our lives and transforming the world as we know it:  &ldquo\;Google&rdquo\; is no longer just a number\; &ldquo\;Friend&rdquo\; is no longer just a noun\; and  user-generated virtual facts are as good as actual\, factual facts. In <i><span style="font-style: italic\;">Wikiphobia\,</span></i> the cast surfs the web at  high-speed\, taking issue with the issues and finding comedic links between the  biggest stories in the news. Whether it&rsquo\;s global warming or global blogging\,  networking of Netflix\, international affairs or interpersonal ones\, Chicago City  Limits delivers an evening of fast-paced\, high-energy  comedy.<o:p> </o:p></span></font><font size="3" face="Arial" color="black"><span style="font-size: 12pt\; color: black\; font-family: Arial\;"><o:p></o:p></span></font></p>
LOCATION:The Rialto Theater is located at 228 E 4th Street in Loveland
UID:e.593.2734
SEQUENCE:3
DTSTAMP:20260419T143915Z
URL:https://business.loveland.org/events/details/chicago-city-limits-by-the-rialto-theater-03-19-2010-2734
END:VEVENT

END:VCALENDAR
