BEGIN:VCALENDAR
VERSION:2.0
PRODID:-//ChamberMaster//Event Calendar 2.0//EN
METHOD:PUBLISH
X-PUBLISHED-TTL:P3D
REFRESH-INTERVAL:P3D
CALSCALE:GREGORIAN
BEGIN:VEVENT
DTSTART;VALUE=DATE:20251113
DTEND;VALUE=DATE:20251211
TRANSP:TRANSPARENT
X-MICROSOFT-CDO-ALLDAYEVENT:TRUE
SUMMARY:Colorado Gives Day
DESCRIPTION:Colorado Gives Day is December 9\, but early giving has already begun. Your gift today helps empower people with disabilities to live independently and with dignity all year long.\n\nTogether\, we can make Northern Colorado a community where everyone belongs and everyone has the opportunity to live independently.\n\nGive where you live. Donate Now. \n\nhttps://www.coloradogives.org/organization/Drs\n\n\n\nCollapse description
X-ALT-DESC;FMTTYPE=text/html:<div style="background:rgb(255\, 255\, 255)\; border:0px\; padding:0px">\n<p style="margin-left:0px\; margin-right:0px"><strong>Colorado Gives Day is December 9</strong>\, but&nbsp\;<strong>early giving has already begun</strong>. Your gift today helps empower people with disabilities to live independently and with dignity all year long.</p>\n\n<p style="margin-left:0px\; margin-right:0px">Together\, we can make Northern Colorado a community where&nbsp\;<strong>everyone belongs</strong>&nbsp\;and&nbsp\;<strong>everyone has the opportunity to live independently</strong>.</p>\n\n<p style="margin-left:0px\; margin-right:0px"><strong>Give where you live. Donate Now.&nbsp\;</strong><br />\nhttps://www.coloradogives.org/organization/Drs</p>\n</div>\n\n<div style="background:none rgb(255\, 255\, 255)\; border:0px\; padding:30px 0px 0px">\n<div style="background:transparent\; border:0px\; padding:0px"><span style="color:inherit">Collapse description</span></div>\n</div>\n
LOCATION:Online
UID:e.593.25117
SEQUENCE:3
DTSTAMP:20260420T192436Z
URL:https://business.loveland.org/events/details/colorado-gives-day-25117
END:VEVENT

END:VCALENDAR
