BEGIN:VCALENDAR
VERSION:2.0
PRODID:-//ChamberMaster//Event Calendar 2.0//EN
METHOD:PUBLISH
X-PUBLISHED-TTL:P3D
REFRESH-INTERVAL:P3D
CALSCALE:GREGORIAN
BEGIN:VEVENT
DTSTART:20251116T000000Z
DTEND:20251116T023000Z
X-MICROSOFT-CDO-ALLDAYEVENT:FALSE
SUMMARY:Combat Recovery Foundation's Boots & Barrels Banquet
DESCRIPTION:Winter Fundraiser for Combat Recovery Foundation\n\nDust off your boots and join us for an unforgettable evening at the first annual Boots & Barrels Banquet. This winter fundraiser blends western charm with a mission that matters. This signature event brings together friends\, supporters\, and community leaders for a night of fine dining\, live and silent auctions\, and plenty of good cheer\, all in support of veterans finding purpose beyond service.\n\nVIP Experience\n\nOur VIP guests will take home something truly extraordinary: a handmade\, custom beaver felt hat crafted by Hamblen Hats. This one of a kind piece is valued at over $800. More than just a hat\, it is a statement of style\, craftsmanship\, and legacy.\n\nWhy Attend?\n\nEvery ticket purchased fuels Combat Recovery Foundation's mission to prevent suicide by putting veterans back on mission through wildfire mitigation\, habitat restoration\, trail work\, and other community driven projects. With your support\, we are helping veterans rise from ash and reclaim purpose\, belonging\, and brotherhood.
X-ALT-DESC;FMTTYPE=text/html:<div>\n<div>\n<div>\n<div>\n<h1>Winter Fundraiser for Combat Recovery Foundation</h1>\n\n<p>Dust off your boots and join us for an unforgettable evening at the&nbsp\;<strong>first annual Boots &amp\; Barrels Banquet</strong>. This winter fundraiser blends western charm with a mission that matters. This signature event brings together friends\, supporters\, and community leaders for a night of fine dining\, live and silent auctions\, and plenty of good cheer\, all in support of veterans finding purpose beyond service.</p>\n\n<h2>VIP Experience</h2>\n\n<p>Our VIP guests will take home something truly extraordinary: a&nbsp\;<strong>handmade\, custom beaver felt hat crafted by Hamblen Hats</strong>. This one of a kind piece is valued at over&nbsp\;<strong>$800</strong>. More than just a hat\, it is a statement of style\, craftsmanship\, and legacy.</p>\n\n<h2>Why Attend?</h2>\n\n<p>Every ticket purchased fuels Combat Recovery Foundation&rsquo\;s mission to prevent suicide by putting veterans back on mission through wildfire mitigation\, habitat restoration\, trail work\, and other community driven projects. With your support\, we are helping veterans rise from ash and reclaim purpose\, belonging\, and brotherhood.</p>\n</div>\n</div>\n</div>\n</div>\n
LOCATION:5500 West Highway 34 Loveland\, CO 80537
UID:e.593.24971
SEQUENCE:3
DTSTAMP:20260420T225242Z
URL:https://business.loveland.org/events/details/combat-recovery-foundation-s-boots-barrels-banquet-24971
END:VEVENT

END:VCALENDAR
