BEGIN:VCALENDAR
VERSION:2.0
PRODID:-//ChamberMaster//Event Calendar 2.0//EN
METHOD:PUBLISH
X-PUBLISHED-TTL:P3D
REFRESH-INTERVAL:P3D
CALSCALE:GREGORIAN
BEGIN:VEVENT
DTSTART:20091020T133000Z
DTEND:20091020T150000Z
X-MICROSOFT-CDO-ALLDAYEVENT:FALSE
SUMMARY:CyberChat - 'Facebook for Business' with Lori Gama
DESCRIPTION:Facebook: Use Top Of Mind Awareness (TOMA) to build your Social Network and Build Your BusinessThe northern Colorado network in Facebook has more than 100\,500 people and it's growing every day. Do you know the proper way to earn trust\, build your Social Network and obtain more business?Come and learn at CyberChat. You'll learn:What the ONE Social Networking rule is and why you must not break it-EVER.How to shift your mind from old marketing ways to new Social Networking ways.Why you must have a goal with your Facebook networkingWhy you must spend 7 minutes a day doing the top most powerful daily Facebook tasks. What proper etiquette is in the land of Facebook.Easy ways to remember what the differences are between a group page\; fan page\; and Facebook profile.This workshop is intended to make you feel a lot more comfortable and confident about how to use Facebook to build your Social Network and Build Your Business. Non-Profits can easily apply Lori's tips to raise awareness for their causes.
X-ALT-DESC;FMTTYPE=text/html:<div><font size="1"><font color="#666666"><div>Facebook: Use Top Of Mind Awareness (TOMA) to build your Social Network and Build Your Business</div><div>The northern Colorado network in Facebook has more than 100\,500 people and it&rsquo\;s growing every day.&nbsp\;</div><div>Do you know the proper way to earn trust\, build your Social Network and obtain more business?</div><div>Come and learn at CyberChat. You&rsquo\;ll learn:</div><div><ul><li><div>What the ONE Social Networking rule is and why you must not break it-EVER.</div></li><li><div>How to shift your mind from old marketing ways to new Social Networking ways.</div></li><li><div>Why you must have a goal with your Facebook networking</div></li><li><div>Why you must spend 7 minutes a day doing the top most powerful daily Facebook tasks.&nbsp\;</div></li><li><div>What proper etiquette is in the land of Facebook.</div></li><li><div>Easy ways to remember what the differences are between a group page\; fan page\; and Facebook profile.</div></li></ul><div>This workshop is intended to make you feel a lot more comfortable and confident about how to use Facebook to build your Social Network and Build Your Business. Non-Profits can easily apply Lori&rsquo\;s tips to raise awareness for their causes.&nbsp\;</div></div></font></font></div>
LOCATION:Loveland Chamber of Commerce5400 Stone Creek CircleLoveland\, Colo. 80528
UID:e.593.11
SEQUENCE:3
DTSTAMP:20260419T204638Z
URL:https://business.loveland.org/events/details/cyberchat-facebook-for-business-with-lori-gama-10-20-2009-11
END:VEVENT

END:VCALENDAR
