BEGIN:VCALENDAR
VERSION:2.0
PRODID:-//ChamberMaster//Event Calendar 2.0//EN
METHOD:PUBLISH
X-PUBLISHED-TTL:P3D
REFRESH-INTERVAL:P3D
CALSCALE:GREGORIAN
BEGIN:VEVENT
DTSTART:20100119T143000Z
DTEND:20100119T160000Z
X-MICROSOFT-CDO-ALLDAYEVENT:FALSE
SUMMARY:CyberChat: SEO for your Web site - 1/19/10
DESCRIPTION:SEO for your Web site Easy and free ways to achieve better Search Engine Optimization. Are you a business owner/manager who maintains your own Web site\, or manages a team who handles this role and has little or no knowledge of Search Engine Optimization (SEO)? Join us\, where Lori Gama of DaGama Web Studio walks you through what SEO is and what you should look for when hiring a professional or handling your own SEO.
X-ALT-DESC;FMTTYPE=text/html:<div><u>SEO for your Web site</u></div><div>&nbsp\;</div><div>Easy and free ways to achieve better Search Engine Optimization.</div><div>&nbsp\;</div><div>Are you a business owner/manager who maintains your own Web&nbsp\;site\, or manages a team who handles this role and has little or no knowledge of Search Engine Optimization (SEO)?</div><div>&nbsp\;</div><div>Join us\, where Lori Gama of DaGama Web&nbsp\;Studio walks you through what SEO is and what you should look for when hiring a professional or handling your own SEO.</div>
LOCATION:Loveland Chamber\, 5400 Stone Creek Circle
UID:e.593.2066
SEQUENCE:3
DTSTAMP:20260419T160311Z
URL:https://business.loveland.org/events/details/cyberchat-seo-for-your-web-site-1-19-10-01-19-2010-2066
END:VEVENT

END:VCALENDAR
