BEGIN:VCALENDAR
VERSION:2.0
PRODID:-//ChamberMaster//Event Calendar 2.0//EN
METHOD:PUBLISH
X-PUBLISHED-TTL:P3D
REFRESH-INTERVAL:P3D
CALSCALE:GREGORIAN
BEGIN:VEVENT
DTSTART:20091215T143000Z
DTEND:20091215T160000Z
X-MICROSOFT-CDO-ALLDAYEVENT:FALSE
SUMMARY:CyberChat Series: Content Management Systems - Making Web editing and commentary
DESCRIPTION:Content Management Systems - Making Web editing and commentary seamlessPresented by Maryjo Morgan\, Fred's Used Websites Are you familiar with the Internet\, but sometimes overwhelmed with updating content online? Content Management Systems (CMS) provide a way to manage workflow and data on the Internet - and are used in many current and popular Web 2.0 applications\, including social media sites Twitter\, Facebook and LinkedIn\, WordPress for blogs and many Websites.  Join us for the Dec. 15 Home State Bank CyberChat Series with Maryjo Morgan of Fred's Used Websites\, where she will review how to identify and use CMS systems\, how these systems can help you become more confident with online content and how it can help you more effectively use and manage Web 2.0 solutions. Morgan will cover CMS in Twitter\, Facebook\, LinkedIn\, WordPress and Website-based systems. You don't have to be extremely technology savvy to explore new options on the Internet - and CMS systems provide you with an easy tool to incorporate more resources into your Web 2.0 portfolio.   Attendees from this session will walk away with:           Confidence in their ability to better manage online content and data to grow business          Basic understanding of several different content management systems that reside on the Internet          The key traits of a CMS system          The difference between a dynamic Website and a static Website that can impact future Web 2.0 decisions.   Target Audience:           Everyone with a basic understanding of the Internet who is looking to better utilize online tools to increase business visibility and efficiency.
X-ALT-DESC;FMTTYPE=text/html:<div><div style="margin: 0in 0in 0pt"><b><font size="2">Content Management Systems - Making Web editing and commentary seamless</font></b></div><div style="margin: 0in 0in 0pt"><font size="2">Presented by Maryjo Morgan\, Fred&rsquo\;s Used Websites</font></div><div style="margin: 0in 0in 0pt">&nbsp\;</div><div style="margin: 0in 0in 0pt"><font size="2">Are you familiar with the Internet\, but sometimes overwhelmed with updating content online? Content Management Systems (CMS) provide a way to manage workflow and data on the Internet - and are used in many current and popular Web 2.0 applications\, including social media sites Twitter\, Facebook and LinkedIn\, WordPress for blogs and many Websites. </font></div><div style="margin: 0in 0in 0pt">&nbsp\;</div><div style="margin: 0in 0in 0pt"><font size="2">Join us for the Dec. 15 Home State Bank CyberChat Series with Maryjo Morgan of Fred&rsquo\;s Used Websites\, where she will review how to identify and use CMS systems\, how these systems can help you become more confident with online content and how it can help you more effectively use and manage Web 2.0 solutions. Morgan will cover CMS in Twitter\, Facebook\, LinkedIn\, WordPress and Website-based systems. You don&rsquo\;t have to be extremely technology savvy to explore new options on the Internet - and CMS systems provide you with an easy tool to incorporate more resources into your Web 2.0 portfolio. </font></div><div style="margin: 0in 0in 0pt">&nbsp\;</div><div style="margin: 0in 0in 0pt">&nbsp\;</div><div style="margin: 0in 0in 0pt"><b><font size="2">Attendees from this session will walk away with:&nbsp\;</font></b></div><div style="text-indent: -0.25in\; margin: 0in 0in 0pt 0.5in"><span><font size="2">&middot\;</font><span style="font: 7pt 'Times New Roman'">&nbsp\;&nbsp\;&nbsp\;&nbsp\;&nbsp\;&nbsp\;&nbsp\;&nbsp\; </span></span><font size="2">Confidence in their ability to better manage online content and data to grow business</font></div><div style="text-indent: -0.25in\; margin: 0in 0in 0pt 0.5in"><span><font size="2">&middot\;</font><span style="font: 7pt 'Times New Roman'">&nbsp\;&nbsp\;&nbsp\;&nbsp\;&nbsp\;&nbsp\;&nbsp\;&nbsp\; </span></span><font size="2">Basic understanding of several different content management systems that reside on the Internet</font></div><div style="text-indent: -0.25in\; margin: 0in 0in 0pt 0.5in"><span><font size="2">&middot\;</font><span style="font: 7pt 'Times New Roman'">&nbsp\;&nbsp\;&nbsp\;&nbsp\;&nbsp\;&nbsp\;&nbsp\;&nbsp\; </span></span><font size="2">The key traits of a CMS system</font></div><div style="text-indent: -0.25in\; margin: 0in 0in 0pt 0.5in"><span><font size="2">&middot\;</font><span style="font: 7pt 'Times New Roman'">&nbsp\;&nbsp\;&nbsp\;&nbsp\;&nbsp\;&nbsp\;&nbsp\;&nbsp\; </span></span><font size="2">The difference between a dynamic Website and a static Website that can impact future Web 2.0 decisions. </font></div><div style="margin: 0in 0in 0pt">&nbsp\;</div><div style="margin: 0in 0in 0pt">&nbsp\;</div><div style="margin: 0in 0in 0pt"><b><font size="2">Target Audience: </font></b></div><div style="text-indent: -0.25in\; margin: 0in 0in 0pt 0.5in"><span><font size="2">&middot\;</font><span style="font: 7pt 'Times New Roman'">&nbsp\;&nbsp\;&nbsp\;&nbsp\;&nbsp\;&nbsp\;&nbsp\;&nbsp\; </span></span><font size="2">Everyone with a basic understanding of the Internet who is looking to better utilize online tools to increase business visibility and efficiency. </font></div></div>
LOCATION:Loveland Chamber of Commerce5400 Stone Creek Circle\, Loveland\, CO 80538
UID:e.593.2028
SEQUENCE:3
DTSTAMP:20260419T173024Z
URL:https://business.loveland.org/events/details/cyberchat-series-content-management-systems-making-web-editing-and-commentary-12-15-2009-2028
END:VEVENT

END:VCALENDAR
