BEGIN:VCALENDAR
VERSION:2.0
PRODID:-//ChamberMaster//Event Calendar 2.0//EN
METHOD:PUBLISH
X-PUBLISHED-TTL:P3D
REFRESH-INTERVAL:P3D
CALSCALE:GREGORIAN
BEGIN:VEVENT
DTSTART:20100316T133000Z
DTEND:20100316T150000Z
X-MICROSOFT-CDO-ALLDAYEVENT:FALSE
SUMMARY:CyberChat Series - Security 03/16/10
DESCRIPTION:CyberChat: Security - Are You Protected? Join us as we explore where the cyber security landscape - where threats are\, ranging from E-mail\, Web sites (from both a Web site visitor and Web site owner's perspective)\, facebook/social media etc.. Greg Hewitt-Long from Web Your Business walks us through this educational session\, held at the Loveland Chamber.
X-ALT-DESC;FMTTYPE=text/html:<div><div><div id="pastedDivNode" name="pastedNode" style="display: inline"><div><span style="color: #0000ff"><strong>CyberChat: Security - Are You Protected?</strong></span></div><div>&nbsp\;</div><div>Join us as we explore where the cyber security landscape - where threats are\, ranging from E-mail\, Web sites (from both a Web site visitor and Web site owner&rsquo\;s perspective)\, facebook/social media etc.. Greg Hewitt-Long from Web Your Business walks us through this educational session\, held at the Loveland Chamber.</div></div></div></div>
LOCATION:Loveland Chamber\, 5400 Stone Creek Circle
UID:e.593.2089
SEQUENCE:3
DTSTAMP:20260419T125726Z
URL:https://business.loveland.org/events/details/cyberchat-series-security-03-16-10-03-16-2010-2089
END:VEVENT

END:VCALENDAR
