BEGIN:VCALENDAR
VERSION:2.0
PRODID:-//ChamberMaster//Event Calendar 2.0//EN
METHOD:PUBLISH
X-PUBLISHED-TTL:P3D
REFRESH-INTERVAL:P3D
CALSCALE:GREGORIAN
BEGIN:VEVENT
DTSTART:20091117T143000Z
DTEND:20091117T160000Z
X-MICROSOFT-CDO-ALLDAYEVENT:FALSE
SUMMARY:CyberChat Series: Social Media 101
DESCRIPTION:An accelerated introduction for beginners. You've heard success stories from around Loveland and Northern Colorado on how social media can benefit business. But do you really know what it is\, what it does and how to use it?  Join us for the November CyberChat Series\, which will cover what social media is\, some top sites to use and why it will enhance your business plan. Plus\, Sean Macready\, assistant general manager of the Best Western Crossroads Inn\, will give a mini case study on how he has used social media for his personal and business brands.
X-ALT-DESC;FMTTYPE=text/html:<div><span class="Apple-style-span" style="widows: 2\; text-transform: none\; text-indent: 0px\; border-collapse: separate\; font: medium 'Times New Roman'\; white-space: normal\; orphans: 2\; letter-spacing: normal\; color: rgb(0\,0\,0)\; word-spacing: 0px\; -webkit-border-horizontal-spacing: 0px\; -webkit-border-vertical-spacing: 0px\; -webkit-text-decorations-in-effect: none\; -webkit-text-size-adjust: auto\; -webkit-text-stroke-width: 0px"><span class="Apple-style-span" style="font-family: verdana\, helvetica\, sans-serif\; white-space: pre-wrap\; font-size: 9px">An accelerated introduction for beginners. You&rsquo\;ve heard success stories from around Loveland and Northern Colorado on how social media can benefit business. But do you really know what it is\, what it does and how to use it? </span></span></div><div>&nbsp\;</div><div><span class="Apple-style-span" style="widows: 2\; text-transform: none\; text-indent: 0px\; border-collapse: separate\; font: medium 'Times New Roman'\; white-space: normal\; orphans: 2\; letter-spacing: normal\; color: rgb(0\,0\,0)\; word-spacing: 0px\; -webkit-border-horizontal-spacing: 0px\; -webkit-border-vertical-spacing: 0px\; -webkit-text-decorations-in-effect: none\; -webkit-text-size-adjust: auto\; -webkit-text-stroke-width: 0px"><span class="Apple-style-span" style="font-family: verdana\, helvetica\, sans-serif\; white-space: pre-wrap\; font-size: 9px">Join us for the November CyberChat Series\, which will cover what social media is\, some top sites to use and why it will enhance your business plan. Plus\, Sean Macready\, assistant general manager of the Best Western Crossroads Inn\, will give a mini case study on how he has used social media for his personal and business brands. </span></span><br class="Apple-interchange-newline" />&nbsp\;</div>
LOCATION:Loveland Chamber of Commerce5400 Stone Creek Circle
UID:e.593.1481
SEQUENCE:3
DTSTAMP:20260419T203448Z
URL:https://business.loveland.org/events/details/cyberchat-series-social-media-101-11-17-2009-1481
END:VEVENT

END:VCALENDAR
