BEGIN:VCALENDAR
VERSION:2.0
PRODID:-//ChamberMaster//Event Calendar 2.0//EN
METHOD:PUBLISH
X-PUBLISHED-TTL:P3D
REFRESH-INTERVAL:P3D
CALSCALE:GREGORIAN
BEGIN:VEVENT
DTSTART:20260402T150000Z
DTEND:20260402T160000Z
X-MICROSOFT-CDO-ALLDAYEVENT:FALSE
SUMMARY:dc Connect | featuring: Candace Leczel
DESCRIPTION:dc Connect   Elevate Your Networking Game!\n\nReady to grow your network in a way that feels genuine and useful? Join us for dc Connect\, a monthly networking series at Desk Chair Workspace\, hosted the first Thursday of every month in The Cleveland Room. It's a welcoming\, upbeat space where professionals from across Northern Colorado come to meet\, share ideas\, and build connections that lead somewhere.\n\nThis month\, we're featuring Candace Leczel\, founder of Colorado Technology Recycling (CTR). With a background in equipment finance and leasing\, Candace spent years supporting large laptop refresh programs experience that showed her how much value organizations were leaving behind at end of life. That insight led her to launch CTR.\n\nCandace specializes in technology buyback and credit programs for government agencies\, higher education\, K 12\, and companies nationwide. Her work focuses on creating simple\, compliant solutions that help organizations recover value\, protect data\, and fund future technology needs through responsible reuse and recycling.\n\nThe morning begins with Candace's 15 20 minute mini-session\, followed by one hour of open networking designed to spark real conversation and future collaboration. Coffee and pastries will be available.\n\nWhether you're new to networking or a familiar face in the community\, dc Connect is a great way to meet the right people\, leave inspired\, and walk away with connections you'll actually follow up on. Save your seat and join us!
X-ALT-DESC;FMTTYPE=text/html:<p>dc Connect &ndash\; Elevate Your Networking Game!</p>\n\n<p>Ready to grow your network in a way that feels genuine&mdash\;and useful? Join us for dc Connect\, a monthly networking series at Desk Chair Workspace\, hosted the first Thursday of every month in The Cleveland Room. It&rsquo\;s a welcoming\, upbeat space where professionals from across Northern Colorado come to meet\, share ideas\, and build connections that lead somewhere.</p>\n\n<p>This month\, we&rsquo\;re featuring Candace Leczel\, founder of Colorado Technology Recycling (CTR). With a background in equipment finance and leasing\, Candace spent years supporting large laptop refresh programs&mdash\;experience that showed her how much value organizations were leaving behind at end of life. That insight led her to launch CTR.</p>\n\n<p>Candace specializes in technology buyback and credit programs for government agencies\, higher education\, K&ndash\;12\, and companies nationwide. Her work focuses on creating simple\, compliant solutions that help organizations recover value\, protect data\, and fund future technology needs through responsible reuse and recycling.</p>\n\n<p>The morning begins with Candace&rsquo\;s 15&ndash\;20 minute mini-session\, followed by one hour of open networking designed to spark real conversation and future collaboration. Coffee and pastries will be available.</p>\n\n<p>Whether you&rsquo\;re new to networking or a familiar face in the community\, dc Connect is a great way to meet the right people\, leave inspired\, and walk away with connections you&rsquo\;ll actually follow up on. Save your seat and join us!</p>\n
LOCATION:desk chair workspace: 201 East 4th Street\, Loveland\, CO 80537
UID:e.593.25746
SEQUENCE:3
DTSTAMP:20260420T065237Z
URL:https://business.loveland.org/events/details/dc-connect-featuring-candace-leczel-25746
END:VEVENT

END:VCALENDAR
