BEGIN:VCALENDAR
VERSION:2.0
PRODID:-//ChamberMaster//Event Calendar 2.0//EN
METHOD:PUBLISH
X-PUBLISHED-TTL:P3D
REFRESH-INTERVAL:P3D
CALSCALE:GREGORIAN
BEGIN:VEVENT
DTSTART:20260108T160000Z
DTEND:20260108T170000Z
X-MICROSOFT-CDO-ALLDAYEVENT:FALSE
SUMMARY:dc Connect | featuring: Robert Nieves
DESCRIPTION:dc Connect   Elevate Your Networking Game!\n\nLooking to expand your professional circle and create connections that truly matter? Join us for dc Connect\, a monthly networking series at desk chair workspace\, hosted on the first Thursday of every month in The Cleveland Room. This engaging event is designed to bring together professionals from across Northern Colorado in a welcoming and inspiring environment.\n\nThis month\, we are excited to feature Robert Nieves  Senior Account Executive\, LettrLabs. Robert Nieves is a seasoned Senior Account Executive at LettrLabs\, specializing in innovative robotic handwritten mail solutions. With extensive experience across luxury e-commerce\, home services\, and nonprofit sectors\, Robert has established himself as a leader in direct mail marketing\, driving exceptional results for diverse clientele.\n\nA passionate advocate for the power of personalized communication\, Robert actively seeks opportunities to speak before varied audiences\, sharing insights on the endless applications of handwritten correspondence. His enthusiasm for networking spans multiple industries\, reflecting his belief in building meaningful connections through authentic engagement.\n\nBeyond his professional pursuits\, Robert resides in Severance\, Colorado with his wife Cassy and their three daughters Kenzie\, Riley\, and Parker. An avid marketing professional and sports enthusiast\, he embraces the Colorado lifestyle\, spending weekends outdoors with his family exploring everything the state has to offer.\n\nThe event will begin with Robert's 15 20 minute presentation\, setting the tone for an energizing morning of connection and collaboration. Following his talk\, attendees will enjoy an hour of open networking\, designed to foster meaningful conversations and spark potential partnerships. Throughout the morning\, you'll be able to enjoy fresh coffee and pastries provided by desk chair workspace\, making it the perfect setting to connect\, learn\, and grow.\n\nWhether you're a seasoned networker or just beginning to build your professional community\, dcConnect offers the tools\, inspiration\, and environment to take your networking game to the next level. Don't miss this opportunity to engage with like-minded professionals and walk away with valuable connections reserve your spot today!
X-ALT-DESC;FMTTYPE=text/html:<p><strong>dc Connect &ndash\; Elevate Your Networking Game!</strong></p>\n\n<p>Looking to expand your professional circle and create connections that truly matter? Join us for&nbsp\;<strong>dc Connect</strong>\, a monthly networking series at desk chair workspace\, hosted on the first Thursday of every month in The Cleveland Room. This engaging event is designed to bring together professionals from across Northern Colorado in a welcoming and inspiring environment.</p>\n\n<p>This month\, we are excited to feature&nbsp\;<strong>Robert Nieves&ndash\;&nbsp\;</strong><em>Senior Account Executive\,</em><em>&nbsp\;</em><em>LettrLabs.</em>&nbsp\;Robert Nieves is a seasoned Senior Account Executive at LettrLabs\, specializing in innovative robotic handwritten mail solutions. With extensive experience across luxury e-commerce\, home services\, and nonprofit sectors\, Robert has established himself as a leader in direct mail marketing\, driving exceptional results for diverse clientele.</p>\n\n<p>A passionate advocate for the power of personalized communication\, Robert actively seeks opportunities to speak before varied audiences\, sharing insights on the endless applications of handwritten correspondence. His enthusiasm for networking spans multiple industries\, reflecting his belief in building meaningful connections through authentic engagement.</p>\n\n<p>Beyond his professional pursuits\, Robert resides in Severance\, Colorado with his wife Cassy and their three daughters&mdash\;Kenzie\, Riley\, and Parker. An avid marketing professional and sports enthusiast\, he embraces the Colorado lifestyle\, spending weekends outdoors with his family exploring everything the state has to offer.</p>\n\n<p>The event will begin with Robert&#39\;s 15&ndash\;20 minute presentation\, setting the tone for an energizing morning of connection and collaboration. Following his talk\, attendees will enjoy an hour of open networking\, designed to foster meaningful conversations and spark potential partnerships. Throughout the morning\, you&rsquo\;ll be able to enjoy fresh coffee and pastries provided by desk chair workspace\, making it the perfect setting to connect\, learn\, and grow.</p>\n\n<p>Whether you&rsquo\;re a seasoned networker or just beginning to build your professional community\, dcConnect offers the tools\, inspiration\, and environment to take your networking game to the next level. Don&rsquo\;t miss this opportunity to engage with like-minded professionals and walk away with valuable connections&mdash\;reserve your spot today!</p>\n
LOCATION:desk chair workspace: 201 East 4th Street Loveland\, CO 80537
UID:e.593.24969
SEQUENCE:3
DTSTAMP:20260420T191328Z
URL:https://business.loveland.org/events/details/dc-connect-featuring-robert-nieves-24969
END:VEVENT

END:VCALENDAR
