BEGIN:VCALENDAR
VERSION:2.0
PRODID:-//ChamberMaster//Event Calendar 2.0//EN
METHOD:PUBLISH
X-PUBLISHED-TTL:P3D
REFRESH-INTERVAL:P3D
CALSCALE:GREGORIAN
BEGIN:VEVENT
DTSTART:20260305T160000Z
DTEND:20260305T170000Z
X-MICROSOFT-CDO-ALLDAYEVENT:FALSE
SUMMARY:dc Connect | featuring: Sara McNamara
DESCRIPTION:dc Connect   Elevate Your Networking Game!\n\nReady to grow your network in a way that actually feels genuine and useful? Join us for dc Connect\, a monthly networking series at desk chair workspace\, hosted the first Thursday of every month in The Cleveland Room. It's a welcoming\, upbeat space where professionals from across Northern Colorado come to meet\, share ideas\, and build connections that lead somewhere.\n\nThis month\, we're featuring Sara McNamara (Ticketsauce). Sara has spent the last several years helping event creators sell more tickets and stress less. With a background in hospitality and a career in ticketing\, she's all about simple systems that work\, great experiences\, and cutting through the noise. (And yes expect a cameo from her super cute puppy\, Pepperoni\, via photos.)\n\nThe morning kicks off with Sara's 15 20 minute mini-session\, followed by an hour of open networking designed to spark real conversation and future collaboration. Plus\, fresh coffee and pastries will be available because the best connections happen when the caffeine is flowing.\n\nWhether you're new to networking or a familiar face in the community\, dc Connect is the perfect way to meet the right people\, leave inspired\, and walk away with connections you'll actually follow up on. Save your seat and join us!
X-ALT-DESC;FMTTYPE=text/html:<p>dc Connect &ndash\; Elevate Your Networking Game!</p>\n\n<p>Ready to grow your network in a way that actually feels genuine&mdash\;and useful? Join us for dc Connect\, a monthly networking series at desk chair workspace\, hosted the first Thursday of every month in The Cleveland Room. It&rsquo\;s a welcoming\, upbeat space where professionals from across Northern Colorado come to meet\, share ideas\, and build connections that lead somewhere.</p>\n\n<p>This month\, we&rsquo\;re featuring Sara McNamara (Ticketsauce). Sara has spent the last several years helping event creators sell more tickets and stress less. With a background in hospitality and a career in ticketing\, she&rsquo\;s all about simple systems that work\, great experiences\, and cutting through the noise. (And yes&mdash\;expect a cameo from her super cute puppy\, Pepperoni\, via photos.)</p>\n\n<p>The morning kicks off with Sara&rsquo\;s 15&ndash\;20 minute mini-session\, followed by an hour of open networking designed to spark real conversation and future collaboration. Plus\, fresh coffee and pastries will be available&mdash\;because the best connections happen when the caffeine is flowing.</p>\n\n<p>Whether you&rsquo\;re new to networking or a familiar face in the community\, dc Connect is the perfect way to meet the right people\, leave inspired\, and walk away with connections you&rsquo\;ll actually follow up on. Save your seat and join us!</p>\n
LOCATION:desk chair workspace: 201 East 4th Street\, Loveland\, CO 80537
UID:e.593.25745
SEQUENCE:3
DTSTAMP:20260420T083820Z
URL:https://business.loveland.org/events/details/dc-connect-featuring-sara-mcnamara-25745
END:VEVENT

END:VCALENDAR
