BEGIN:VCALENDAR
VERSION:2.0
PRODID:-//ChamberMaster//Event Calendar 2.0//EN
METHOD:PUBLISH
X-PUBLISHED-TTL:P3D
REFRESH-INTERVAL:P3D
CALSCALE:GREGORIAN
BEGIN:VEVENT
DTSTART:20091015T233000Z
DTEND:20091016T010000Z
X-MICROSOFT-CDO-ALLDAYEVENT:FALSE
SUMMARY:DLA Networking Party hosted by the Loveland Chamber
DESCRIPTION:DLA Networking Party hosted by the Loveland Chamber of Commerce To celebrate its support of and collaboration for ongoing business success with the Downtown Loveland Association (DLA)\, the Loveland Chamber of Commerce is hosting the DLA Networking Party from 5:30 p.m. - 7:00 p.m. on Thursday\, Oct. 15. This networking event is an opportunity for DLA and Loveland Chamber members to collaborate\, network and learn more about each organization and their roles in supporting Loveland's thriving business community. Come join us for food\, drinks and a chance to connect and celebrate business. Register early to ensure your spot! Fee: DLA and Loveland Chamber members: $5.00\; Non-members: $10.00 Location: Loveland Chamber of Commerce\, 5400 Stone Creek Circle Register by calling the Chamber: 667-6311 or e-mail: NHegg@Loveland.org
X-ALT-DESC;FMTTYPE=text/html:<div>DLA Networking Party hosted by the Loveland Chamber of Commerce To celebrate its support of and collaboration for ongoing business success with the Downtown Loveland Association (DLA)\, the Loveland Chamber of Commerce is hosting the DLA Networking Party from 5:30 p.m. - 7:00 p.m. on Thursday\, Oct. 15. This networking event is an opportunity for DLA and Loveland Chamber members to collaborate\, network and learn more about each organization and their roles in supporting Loveland&rsquo\;s thriving business community. Come join us for food\, drinks and a chance to connect and celebrate business.</div><div>&nbsp\;</div><div>Register early to ensure your spot! Fee: DLA and Loveland Chamber members: $5.00\; Non-members: $10.00 Location: Loveland Chamber of Commerce\, 5400 Stone Creek Circle Register by calling the Chamber: 667-6311 or e-mail: <a href="mailto:NHegg@Loveland.org">NHegg@Loveland.org</a></div>
LOCATION:Loveland Chamber of Commerce5400 Stone Creek Circle
UID:e.593.18
SEQUENCE:3
DTSTAMP:20260419T204654Z
URL:https://business.loveland.org/events/details/dla-networking-party-hosted-by-the-loveland-chamber-10-15-2009-18
END:VEVENT

END:VCALENDAR
