BEGIN:VCALENDAR
VERSION:2.0
PRODID:-//ChamberMaster//Event Calendar 2.0//EN
METHOD:PUBLISH
X-PUBLISHED-TTL:P3D
REFRESH-INTERVAL:P3D
CALSCALE:GREGORIAN
BEGIN:VEVENT
DTSTART:20091121T020000Z
DTEND:20091121T040000Z
X-MICROSOFT-CDO-ALLDAYEVENT:FALSE
SUMMARY:Don't Drink the Water by Woody Allen
DESCRIPTION:Normal\n  0\n  \n  \n  false\n  false\n  false\n  \n   \n   \n   \n   \n   \n  \n  MicrosoftInternetExplorer4\n \n\n \n \n\n\nst1\\:*{behavior:url(#ieooui) }\n\n\n\n\n\n /* Style Definitions */\n table.MsoNormalTable\n	{mso-style-name:"Table Normal"\;\n	mso-tstyle-rowband-size:0\;\n	mso-tstyle-colband-size:0\;\n	mso-style-noshow:yes\;\n	mso-style-parent:""\;\n	mso-padding-alt:0in 5.4pt 0in 5.4pt\;\n	mso-para-margin:0in\;\n	mso-para-margin-bottom:.0001pt\;\n	mso-pagination:widow-orphan\;\n	font-size:10.0pt\;\n	font-family:"Times New Roman"\;\n	mso-ansi-language:#0400\;\n	mso-fareast-language:#0400\;\n	mso-bidi-language:#0400\;}\n\nOut of the top ten rules of what not to do on vacation\, the Hollanders broke number five: If you are behind the Iron Curtain\, and there is a sign that says "Restricted Area: No Photographs"\, do NOT take any photographs.       Starring the husband/wife team of Duane and Jan Sawyer as Walter and Marion Hollander\, this Woody Allen comedy classic is full of laughs.     Suspected of spying\, a family from New Jersey takes refuge in the American embassy.  Unfortunately\, the American ambassador has gone to the Caribbean\, and left his bumbling\, incompetent son in charge.  With rioting outside\, tempers flaring inside and the Sultan of Bashir arriving soon\, the embassy becomes the site of one side splitting disaster after another.     After their success of Seven Keys to Baldpate\, Encore! Encore! is tackling another great comedy.  A non-profit organization\, Encore! Encore! has been bringing family friendly entertainment to northern Colorado since 1992.  They also host annual events such as the Father/Daughter Butterfly Kisses Valentine Dance and Lost Marbles Theatrics' student productions.
X-ALT-DESC;FMTTYPE=text/html:<div><meta content="text/html\; charset=utf-8" http-equiv="Content-Type" /><meta content="Word.Document" name="ProgId" /><meta content="Microsoft Word 11" name="Generator" /><meta content="Microsoft Word 11" name="Originator" /><link href="file:///C:\\DOCUME~1\\Intern\\LOCALS~1\\Temp\\msohtml1\\01\\clip_filelist.xml" rel="File-List" /><o:smarttagtype name="State" namespaceuri="urn:schemas-microsoft-com:office:smarttags"></o:smarttagtype><o:smarttagtype name="place" namespaceuri="urn:schemas-microsoft-com:office:smarttags"></o:smarttagtype><!--[if gte mso 9]><xml>\n <w:WordDocument>\n  <w:View>Normal</w:View>\n  <w:Zoom>0</w:Zoom>\n  <w:PunctuationKerning />\n  <w:ValidateAgainstSchemas />\n  <w:SaveIfXMLInvalid>false</w:SaveIfXMLInvalid>\n  <w:IgnoreMixedContent>false</w:IgnoreMixedContent>\n  <w:AlwaysShowPlaceholderText>false</w:AlwaysShowPlaceholderText>\n  <w:Compatibility>\n   <w:BreakWrappedTables />\n   <w:SnapToGridInCell />\n   <w:WrapTextWithPunct />\n   <w:UseAsianBreakRules />\n   <w:DontGrowAutofit />\n  </w:Compatibility>\n  <w:BrowserLevel>MicrosoftInternetExplorer4</w:BrowserLevel>\n </w:WordDocument>\n</xml><![endif]--><!--[if gte mso 9]><xml>\n <w:LatentStyles DefLockedState="false" LatentStyleCount="156">\n </w:LatentStyles>\n</xml><![endif]--><!--[if !mso]><object\n classid="clsid:38481807-CA0E-42D2-BF39-B33AF135CC4D" id=ieooui></object>\n<style>\nst1\\:*{behavior:url(#ieooui) }\n</style>\n<![endif]--><style type="text/css">\n<!--\n /* Style Definitions */\n p.MsoNormal\, li.MsoNormal\, div.MsoNormal\n	{mso-style-parent:""\;\n	margin:0in\;\n	margin-bottom:.0001pt\;\n	mso-pagination:widow-orphan\;\n	font-size:12.0pt\;\n	font-family:"Times New Roman"\;\n	mso-fareast-font-family:"Times New Roman"\;}\n@page Section1\n	{size:8.5in 11.0in\;\n	margin:.5in .7in 41.75pt .7in\;\n	mso-header-margin:.5in\;\n	mso-footer-margin:.5in\;\n	mso-paper-source:0\;}\ndiv.Section1\n	{page:Section1\;}\n-->\n</style><!--[if gte mso 10]>\n<style>\n /* Style Definitions */\n table.MsoNormalTable\n	{mso-style-name:"Table Normal"\;\n	mso-tstyle-rowband-size:0\;\n	mso-tstyle-colband-size:0\;\n	mso-style-noshow:yes\;\n	mso-style-parent:""\;\n	mso-padding-alt:0in 5.4pt 0in 5.4pt\;\n	mso-para-margin:0in\;\n	mso-para-margin-bottom:.0001pt\;\n	mso-pagination:widow-orphan\;\n	font-size:10.0pt\;\n	font-family:"Times New Roman"\;\n	mso-ansi-language:#0400\;\n	mso-fareast-language:#0400\;\n	mso-bidi-language:#0400\;}\n</style>\n<![endif]--></div><p class="MsoNormal"><span style="color: black\;">Out of the top ten rules of what not to do on vacation\, the Hollanders broke number five: If you are behind the Iron Curtain\, and there is a sign that says &ldquo\;Restricted Area: No Photographs&rdquo\;\, do NOT take any photographs.<span style="">&nbsp\; </span><o:p></o:p></span></p>  <p class="MsoNormal"><span style="color: black\;"><o:p>&nbsp\;</o:p></span></p>  <p class="MsoNormal"><span style="color: black\;">Starring the husband/wife team of Duane and Jan Sawyer as Walter and Marion Hollander\, this Woody Allen comedy classic is full of laughs.<o:p></o:p></span></p>  <p class="MsoNormal"><span style="color: black\;"><o:p>&nbsp\;</o:p></span></p>  <p class="MsoNormal"><span style="color: black\;">Suspected of spying\, a family from <st1:place w:st="on"><st1:state w:st="on">New Jersey</st1:state></st1:place> takes refuge in the American embassy.<span style="">&nbsp\; </span>Unfortunately\, the American ambassador has gone to the <st1:place w:st="on">Caribbean</st1:place>\, and left his bumbling\, incompetent son in charge.<span style="">&nbsp\; </span>With rioting outside\, tempers flaring inside and the Sultan of Bashir arriving soon\, the embassy becomes the site of one side splitting disaster after another.<o:p></o:p></span></p>  <p class="MsoNormal"><span style="color: black\;"><o:p>&nbsp\;</o:p></span></p>  <p class="MsoNormal"><span style="color: black\;">After their success of <i style="">Seven Keys to Baldpate\, </i>Encore! Encore! is tackling another great comedy.<span style="">&nbsp\; </span>A non-profit organization\, Encore! Encore! has been bringing family friendly entertainment to northern <st1:place w:st="on"><st1:state w:st="on">Colorado</st1:state></st1:place> since 1992.<span style="">&nbsp\; </span>They also host annual events such as the Father/Daughter <i style="">Butterfly Kisses </i>Valentine Dance and Lost Marbles Theatrics&rsquo\; student productions.<o:p></o:p></span></p>  <p class="MsoNormal"><o:p>&nbsp\;</o:p></p>
LOCATION:Normal 0 false false false MicrosoftInternetExplorer4 st1\\:*{behavior:url(#ieooui) } /* Style Definitions */ table.MsoNormalTable {mso-style-name:"Table Normal"\; mso-tstyle-rowband-size:0\; mso-tstyle-colband-size:0\; mso-style-noshow:yes\; mso-style-parent:""\; mso-padding-alt:0in 5.4pt 0in 5.4pt\; mso-para-margin:0in\; mso-para-margin-bottom:.0001pt\; mso-pagination:widow-orphan\; font-size:10.0pt\; font-family:"Times New Roman"\; mso-ansi-language:#0400\; mso-fareast-language:#0400\; mso-bidi-language:#0400\;} Rialto Theater 228 E Fourth St. Loveland CO
UID:e.593.2038
SEQUENCE:3
DTSTAMP:20260419T191119Z
URL:https://business.loveland.org/events/details/don-t-drink-the-water-by-woody-allen-11-20-2009-2038
END:VEVENT

END:VCALENDAR
