BEGIN:VCALENDAR
VERSION:2.0
PRODID:-//ChamberMaster//Event Calendar 2.0//EN
METHOD:PUBLISH
X-PUBLISHED-TTL:P3D
REFRESH-INTERVAL:P3D
CALSCALE:GREGORIAN
BEGIN:VEVENT
DTSTART:20100304T160000Z
DTEND:20100304T230000Z
X-MICROSOFT-CDO-ALLDAYEVENT:FALSE
SUMMARY:Email Marketing Boot Camp
DESCRIPTION:In just 2  information-packed days\, this collaborative\, hands-on workshop will show you how  to create and send an effective email marketing program that gets the  bottom-line results you're looking for. You'll learn the 12 fundamentals to  developing professional emails that complement your current marketing efforts   support your organization's goals  and strengthen your customer relationships.  We supply the computer and an expert instructor while you work directly in your  Constant Contact account   so that you can instantly apply your new knowledge  and skills as you learn them!   Who should  attend?Whether you're just  getting started with Constant Contact and want to learn the basics for creating  and sending an email... or are an experienced Constant Contact user looking to  advance your skills... this dynamic program is for you if  you:                            Use Constant Contact  to create\, execute\, and refine the email marketing communications for a small  business\, nonprofit\, or association                          Thrive when learning  with peers in a classroom setting\, with an expert instructor close at  hand. What will you  learn? Through guided  technical demonstrations\; collaborative\, small-group activities\; personal  coaching\; role-playing\; and peer review\, you'll gain new skills  in...                            Strategy: See real-life  examples of successful emails\, and interact with peers to set your email  marketing goals.                          List Building: Join hands-on  exercises that will show you how to grow your email list\, target your emails\,  and manage your contacts.                          Email  Design: Learn how you can  recognize great-looking email designs\, and apply the best ideas so that your  emails showcase your business and your brand.                          Content: Team with your  peers to create engaging email content including articles\, coupons\, promotions\,  links\, featured content\, and winning subject lines.                          Results: Get new insights  into your open and click-through rates\, and learn how to use tracking reports to  make each of your emails better than the last.                          Networking: Collaborate with  other small businesses\, nonprofits\, and associations\, and exchange ideas for  improving your email marketing   and your overall business  goals.
X-ALT-DESC;FMTTYPE=text/html:<p class="MsoNormal"><font size="2" face="Arial" color="#6f7066"><span style="font-size: 10pt\; color: rgb(111\, 112\, 102)\; font-family: Arial\;">In just 2  information-packed days\, this collaborative\, hands-on workshop will show you how  to create and send an effective email marketing program that gets the  bottom-line results you&rsquo\;re looking for. You&rsquo\;ll learn the 12 fundamentals to  developing professional emails that complement your current marketing efforts&hellip\;  support your organization&rsquo\;s goals&hellip\; and strengthen your customer relationships.  We supply the computer and an expert instructor while you work directly in your  Constant Contact account &mdash\; so that you can instantly apply your new knowledge  and skills as you learn them!<o:p></o:p></span></font></p> <div><p class="MsoNormal"><font size="2" face="Arial" color="#6f7066"><span style="font-size: 10pt\; color: rgb(111\, 112\, 102)\; font-family: Arial\;">&nbsp\;<o:p></o:p></span></font></p></div> <div><p class="MsoNormal"><strong><b><font size="3" face="Arial" color="#4896a3"><span style="font-size: 12pt\; color: rgb(72\, 150\, 163)\; font-family: Arial\;">Who should  attend?</span></font></b></strong></p><p class="MsoNormal"><font size="2" face="Arial" color="#6f7066"><span style="font-size: 10pt\; color: rgb(111\, 112\, 102)\; font-family: Arial\;">Whether you&rsquo\;re just  getting started with Constant Contact and want to learn the basics for creating  and sending an email... or are an experienced Constant Contact user looking to  advance your skills... this dynamic program is for you if  you:<o:p></o:p></span></font></p></div> <div><p class="MsoNormal"><font size="2" face="Arial" color="#6f7066"><span style="font-size: 10pt\; color: rgb(111\, 112\, 102)\; font-family: Arial\;">&nbsp\;<o:p></o:p></span></font></p></div> <p class="MsoNormal" style="margin-bottom: 7.5pt\; margin-left: 15pt\; text-indent: -0.25in\;"><font size="2" face="Symbol" color="#6f7066"><span style="font-size: 10pt\; color: rgb(111\, 112\, 102)\; font-family: Symbol\;"><span style="">&middot\;<font size="1" face="Times New Roman"><span style="font-family: &rsquo\;Times New Roman&rsquo\;\; font-style: normal\; font-variant: normal\; font-weight: normal\; font-size: 7pt\; line-height: normal\; font-size-adjust: none\; font-stretch: normal\;">&nbsp\;&nbsp\;&nbsp\;&nbsp\;&nbsp\;&nbsp\;&nbsp\;&nbsp\;&nbsp\;&nbsp\;&nbsp\;&nbsp\;&nbsp\;&nbsp\;&nbsp\;&nbsp\;&nbsp\;&nbsp\;&nbsp\;&nbsp\;&nbsp\;&nbsp\;  </span></font></span></span></font><font size="2" face="Arial" color="#6f7066"><span style="font-size: 10pt\; color: rgb(111\, 112\, 102)\; font-family: Arial\;">Use Constant Contact  to create\, execute\, and refine the email marketing communications for a small  business\, nonprofit\, or association<o:p></o:p></span></font></p> <p class="MsoNormal" style="margin-bottom: 7.5pt\; margin-left: 15pt\; text-indent: -0.25in\;"><font size="2" face="Symbol" color="#6f7066"><span style="font-size: 10pt\; color: rgb(111\, 112\, 102)\; font-family: Symbol\;"><span style="">&middot\;<font size="1" face="Times New Roman"><span style="font-family: &rsquo\;Times New Roman&rsquo\;\; font-style: normal\; font-variant: normal\; font-weight: normal\; font-size: 7pt\; line-height: normal\; font-size-adjust: none\; font-stretch: normal\;">&nbsp\;&nbsp\;&nbsp\;&nbsp\;&nbsp\;&nbsp\;&nbsp\;&nbsp\;&nbsp\;&nbsp\;&nbsp\;&nbsp\;&nbsp\;&nbsp\;&nbsp\;&nbsp\;&nbsp\;&nbsp\;&nbsp\;&nbsp\;&nbsp\;&nbsp\;  </span></font></span></span></font><font size="2" face="Arial" color="#6f7066"><span style="font-size: 10pt\; color: rgb(111\, 112\, 102)\; font-family: Arial\;">Thrive when learning  with peers in a classroom setting\, with an expert instructor close at  hand.<o:p></o:p></span></font></p> <div><p class="MsoNormal"><strong><b><font size="3" face="Arial" color="#4896a3"><span style="font-size: 12pt\; color: rgb(72\, 150\, 163)\; font-family: Arial\;">What will you  learn?</span></font></b></strong><font face="Arial" color="#4896a3"><span style="color: rgb(72\, 150\, 163)\; font-family: Arial\;"><o:p></o:p></span></font></p></div> <div><p class="MsoNormal"><font size="2" face="Arial" color="#6f7066"><span style="font-size: 10pt\; color: rgb(111\, 112\, 102)\; font-family: Arial\;">Through guided  technical demonstrations\; collaborative\, small-group activities\; personal  coaching\; role-playing\; and peer review\, you&rsquo\;ll gain new skills  in...<o:p></o:p></span></font></p></div> <div><p class="MsoNormal"><font size="2" face="Arial" color="#6f7066"><span style="font-size: 10pt\; color: rgb(111\, 112\, 102)\; font-family: Arial\;">&nbsp\;<o:p></o:p></span></font></p></div> <p class="MsoNormal" style="margin-bottom: 7.5pt\; margin-left: 15pt\; text-indent: -0.25in\;"><font size="2" face="Symbol" color="#6f7066"><span style="font-size: 10pt\; color: rgb(111\, 112\, 102)\; font-family: Symbol\;"><span style="">&middot\;<font size="1" face="Times New Roman"><span style="font-family: &rsquo\;Times New Roman&rsquo\;\; font-style: normal\; font-variant: normal\; font-weight: normal\; font-size: 7pt\; line-height: normal\; font-size-adjust: none\; font-stretch: normal\;">&nbsp\;&nbsp\;&nbsp\;&nbsp\;&nbsp\;&nbsp\;&nbsp\;&nbsp\;&nbsp\;&nbsp\;&nbsp\;&nbsp\;&nbsp\;&nbsp\;&nbsp\;&nbsp\;&nbsp\;&nbsp\;&nbsp\;&nbsp\;&nbsp\;&nbsp\;  </span></font></span></span></font><strong><b><font size="2" face="Arial" color="#4896a3"><span style="font-size: 10pt\; color: rgb(72\, 150\, 163)\; font-family: Arial\;">Strategy:</span></font></b></strong><font size="2" face="Arial" color="#6f7066"><span style="font-size: 10pt\; color: rgb(111\, 112\, 102)\; font-family: Arial\;"> See real-life  examples of successful emails\, and interact with peers to set your email  marketing goals.<o:p></o:p></span></font></p> <p class="MsoNormal" style="margin-bottom: 7.5pt\; margin-left: 15pt\; text-indent: -0.25in\;"><font size="2" face="Symbol" color="#6f7066"><span style="font-size: 10pt\; color: rgb(111\, 112\, 102)\; font-family: Symbol\;"><span style="">&middot\;<font size="1" face="Times New Roman"><span style="font-family: &rsquo\;Times New Roman&rsquo\;\; font-style: normal\; font-variant: normal\; font-weight: normal\; font-size: 7pt\; line-height: normal\; font-size-adjust: none\; font-stretch: normal\;">&nbsp\;&nbsp\;&nbsp\;&nbsp\;&nbsp\;&nbsp\;&nbsp\;&nbsp\;&nbsp\;&nbsp\;&nbsp\;&nbsp\;&nbsp\;&nbsp\;&nbsp\;&nbsp\;&nbsp\;&nbsp\;&nbsp\;&nbsp\;&nbsp\;&nbsp\;  </span></font></span></span></font><st1:place w:st="on"><st1:placename w:st="on"><strong><b><font size="2" face="Arial" color="#4896a3"><span style="font-size: 10pt\; color: rgb(72\, 150\, 163)\; font-family: Arial\;">List</span></font></b></strong></st1:placename><strong><b><font size="2" face="Arial" color="#4896a3"><span style="font-size: 10pt\; color: rgb(72\, 150\, 163)\; font-family: Arial\;"> <st1:placetype w:st="on">Building</st1:placetype></span></font></b></strong></st1:place><strong><b><font size="2" face="Arial" color="#4896a3"><span style="font-size: 10pt\; color: rgb(72\, 150\, 163)\; font-family: Arial\;">:</span></font></b></strong><font size="2" face="Arial" color="#6f7066"><span style="font-size: 10pt\; color: rgb(111\, 112\, 102)\; font-family: Arial\;"> Join hands-on  exercises that will show you how to grow your email list\, target your emails\,  and manage your contacts.<o:p></o:p></span></font></p> <p class="MsoNormal" style="margin-bottom: 7.5pt\; margin-left: 15pt\; text-indent: -0.25in\;"><font size="2" face="Symbol" color="#6f7066"><span style="font-size: 10pt\; color: rgb(111\, 112\, 102)\; font-family: Symbol\;"><span style="">&middot\;<font size="1" face="Times New Roman"><span style="font-family: &rsquo\;Times New Roman&rsquo\;\; font-style: normal\; font-variant: normal\; font-weight: normal\; font-size: 7pt\; line-height: normal\; font-size-adjust: none\; font-stretch: normal\;">&nbsp\;&nbsp\;&nbsp\;&nbsp\;&nbsp\;&nbsp\;&nbsp\;&nbsp\;&nbsp\;&nbsp\;&nbsp\;&nbsp\;&nbsp\;&nbsp\;&nbsp\;&nbsp\;&nbsp\;&nbsp\;&nbsp\;&nbsp\;&nbsp\;&nbsp\;  </span></font></span></span></font><strong><b><font size="2" face="Arial" color="#4896a3"><span style="font-size: 10pt\; color: rgb(72\, 150\, 163)\; font-family: Arial\;">Email  Design:</span></font></b></strong><font size="2" face="Arial" color="#6f7066"><span style="font-size: 10pt\; color: rgb(111\, 112\, 102)\; font-family: Arial\;"> Learn how you can  recognize great-looking email designs\, and apply the best ideas so that your  emails showcase your business and your brand.<o:p></o:p></span></font></p> <p class="MsoNormal" style="margin-bottom: 7.5pt\; margin-left: 15pt\; text-indent: -0.25in\;"><font size="2" face="Symbol" color="#6f7066"><span style="font-size: 10pt\; color: rgb(111\, 112\, 102)\; font-family: Symbol\;"><span style="">&middot\;<font size="1" face="Times New Roman"><span style="font-family: &rsquo\;Times New Roman&rsquo\;\; font-style: normal\; font-variant: normal\; font-weight: normal\; font-size: 7pt\; line-height: normal\; font-size-adjust: none\; font-stretch: normal\;">&nbsp\;&nbsp\;&nbsp\;&nbsp\;&nbsp\;&nbsp\;&nbsp\;&nbsp\;&nbsp\;&nbsp\;&nbsp\;&nbsp\;&nbsp\;&nbsp\;&nbsp\;&nbsp\;&nbsp\;&nbsp\;&nbsp\;&nbsp\;&nbsp\;&nbsp\;  </span></font></span></span></font><strong><b><font size="2" face="Arial" color="#4896a3"><span style="font-size: 10pt\; color: rgb(72\, 150\, 163)\; font-family: Arial\;">Content:</span></font></b></strong><font size="2" face="Arial" color="#6f7066"><span style="font-size: 10pt\; color: rgb(111\, 112\, 102)\; font-family: Arial\;"> Team with your  peers to create engaging email content including articles\, coupons\, promotions\,  links\, featured content\, and winning subject lines.<o:p></o:p></span></font></p> <p class="MsoNormal" style="margin-bottom: 7.5pt\; margin-left: 15pt\; text-indent: -0.25in\;"><font size="2" face="Symbol" color="#6f7066"><span style="font-size: 10pt\; color: rgb(111\, 112\, 102)\; font-family: Symbol\;"><span style="">&middot\;<font size="1" face="Times New Roman"><span style="font-family: &rsquo\;Times New Roman&rsquo\;\; font-style: normal\; font-variant: normal\; font-weight: normal\; font-size: 7pt\; line-height: normal\; font-size-adjust: none\; font-stretch: normal\;">&nbsp\;&nbsp\;&nbsp\;&nbsp\;&nbsp\;&nbsp\;&nbsp\;&nbsp\;&nbsp\;&nbsp\;&nbsp\;&nbsp\;&nbsp\;&nbsp\;&nbsp\;&nbsp\;&nbsp\;&nbsp\;&nbsp\;&nbsp\;&nbsp\;&nbsp\;  </span></font></span></span></font><strong><b><font size="2" face="Arial" color="#4896a3"><span style="font-size: 10pt\; color: rgb(72\, 150\, 163)\; font-family: Arial\;">Results:</span></font></b></strong><font size="2" face="Arial" color="#6f7066"><span style="font-size: 10pt\; color: rgb(111\, 112\, 102)\; font-family: Arial\;"> Get new insights  into your open and click-through rates\, and learn how to use tracking reports to  make each of your emails better than the last.<o:p></o:p></span></font></p> <p class="MsoNormal" style="margin-bottom: 7.5pt\; margin-left: 15pt\; text-indent: -0.25in\;"><font size="2" face="Symbol" color="#6f7066"><span style="font-size: 10pt\; color: rgb(111\, 112\, 102)\; font-family: Symbol\;"><span style="">&middot\;<font size="1" face="Times New Roman"><span style="font-family: &rsquo\;Times New Roman&rsquo\;\; font-style: normal\; font-variant: normal\; font-weight: normal\; font-size: 7pt\; line-height: normal\; font-size-adjust: none\; font-stretch: normal\;">&nbsp\;&nbsp\;&nbsp\;&nbsp\;&nbsp\;&nbsp\;&nbsp\;&nbsp\;&nbsp\;&nbsp\;&nbsp\;&nbsp\;&nbsp\;&nbsp\;&nbsp\;&nbsp\;&nbsp\;&nbsp\;&nbsp\;&nbsp\;&nbsp\;&nbsp\;  </span></font></span></span></font><strong><b><font size="2" face="Arial" color="#4896a3"><span style="font-size: 10pt\; color: rgb(72\, 150\, 163)\; font-family: Arial\;">Networking:</span></font></b></strong><font size="2" face="Arial" color="#6f7066"><span style="font-size: 10pt\; color: rgb(111\, 112\, 102)\; font-family: Arial\;"> Collaborate with  other small businesses\, nonprofits\, and associations\, and exchange ideas for  improving your email marketing &mdash\; and your overall business  goals.<o:p></o:p></span></font></p><div><p class="MsoNormal"><font size="2" face="Arial" color="#6f7066"><span style="font-size: 10pt\; color: rgb(111\, 112\, 102)\; font-family: Arial\;"><o:p></o:p></span></font></p></div>
LOCATION:MicroTek- Denver\, 999 18th Street\, Suite 300S\, Denver\, CO 80202
UID:e.593.2530
SEQUENCE:3
DTSTAMP:20260419T125626Z
URL:https://business.loveland.org/events/details/email-marketing-boot-camp-03-04-2010-2530
END:VEVENT

END:VCALENDAR
