BEGIN:VCALENDAR
VERSION:2.0
PRODID:-//ChamberMaster//Event Calendar 2.0//EN
METHOD:PUBLISH
X-PUBLISHED-TTL:P3D
REFRESH-INTERVAL:P3D
CALSCALE:GREGORIAN
BEGIN:VEVENT
DTSTART:20100318T174500Z
DTEND:20100318T190000Z
X-MICROSOFT-CDO-ALLDAYEVENT:FALSE
SUMMARY:Employer Solutions Group Seminar / Lunch
DESCRIPTION:Please join ESG for an educational seminar on Job Descriptions and Compensation. Learn how job descriptions can affect the success of your organization. No cost\, lunch is provided. RSVP by Monday\, March 15. Early registration is recommended.
X-ALT-DESC;FMTTYPE=text/html:Please join ESG for an educational seminar on Job Descriptions and Compensation. Learn how job descriptions can affect the success of your organization. No cost\, lunch is provided. RSVP by Monday\, March 15. Early registration is recommended. \n<br>
LOCATION:New York Life 3003 E. Harmony Rd. #110 Fort Collins\, CO 80528
UID:e.593.2729
SEQUENCE:3
DTSTAMP:20260419T125726Z
URL:https://business.loveland.org/events/details/employer-solutions-group-seminar-lunch-03-18-2010-2729
END:VEVENT

END:VCALENDAR
