BEGIN:VCALENDAR
VERSION:2.0
PRODID:-//ChamberMaster//Event Calendar 2.0//EN
METHOD:PUBLISH
X-PUBLISHED-TTL:P3D
REFRESH-INTERVAL:P3D
CALSCALE:GREGORIAN
BEGIN:VEVENT
DTSTART:20100219T003000Z
DTEND:20100219T033000Z
X-MICROSOFT-CDO-ALLDAYEVENT:FALSE
SUMMARY:Empty Bowls Fort Collins
DESCRIPTION:Tickets are now on sale for Empty Bowls Fort Collins\, a signature community event taking place on Thursday\, February 18 at 5:30 p.m. For the price of one ticket\, the Food Bank for Larimer County\, 1301 Blue Spruce Drive\, can provide enough food for 200 families in need in Larimer County. \n\n\n\nHosted at the Hilton Fort Collins\, 425 W. Prospect Road\, the event is a dinner and art auction working to increase awareness of hunger issues in our community. Guests at Empty Bowls can choose a pottery bowl as a memento of the event and enjoy signature soups provided by locally-owned restaurants. Each bowl is handmade by a local artist or Poudre School District student. \n\n\n\nLocal potters go to bowl making events at area schools to guide students in making bowls. For the students\, artists and community groups\, Empty Bowls is the way to promote the importance and satisfaction of community service. \n\n\n\nTickets can be purchased online at www.foodbanklarimer.org or by phone 493-4477 and are $50 each or $95 for two. Advance ticket purchase is recommended.\n\n\n\nFor more information about Empty Bowls Fort Collins\, please visit www.foodbanklarimer.org.
X-ALT-DESC;FMTTYPE=text/html:Tickets are now on sale for Empty Bowls Fort Collins\, a signature community event taking place on Thursday\, February 18 at 5:30 p.m. For the price of one ticket\, the Food Bank for Larimer County\, 1301 Blue Spruce Drive\, can provide enough food for 200 families in need in Larimer County. \n<br>\n<br>Hosted at the Hilton Fort Collins\, 425 W. Prospect Road\, the event is a dinner and art auction working to increase awareness of hunger issues in our community. Guests at Empty Bowls can choose a pottery bowl as a memento of the event and enjoy signature soups provided by locally-owned restaurants. Each bowl is handmade by a local artist or Poudre School District student. \n<br>\n<br>Local potters go to bowl making events at area schools to guide students in making bowls. For the students\, artists and community groups\, Empty Bowls is the way to promote the importance and satisfaction of community service. \n<br>\n<br>Tickets can be purchased online at www.foodbanklarimer.org or by phone 493-4477 and are $50 each or $95 for two. Advance ticket purchase is recommended.\n<br>\n<br>For more information about Empty Bowls Fort Collins\, please visit www.foodbanklarimer.org.\n<br>
LOCATION:HIlton Fort Collins\, 425 W. Prospect Road
UID:e.593.2402
SEQUENCE:3
DTSTAMP:20260419T160114Z
URL:https://business.loveland.org/events/details/empty-bowls-fort-collins-02-18-2010-2402
END:VEVENT

END:VCALENDAR
