BEGIN:VCALENDAR
VERSION:2.0
PRODID:-//ChamberMaster//Event Calendar 2.0//EN
METHOD:PUBLISH
X-PUBLISHED-TTL:P3D
REFRESH-INTERVAL:P3D
CALSCALE:GREGORIAN
BEGIN:VEVENT
DTSTART:20091202T200000Z
DTEND:20091202T230000Z
X-MICROSOFT-CDO-ALLDAYEVENT:FALSE
SUMMARY:End of Year Payroll Reporting Processing
DESCRIPTION:"End of Year Payroll Reporting Processing" will be presented by the Northern  Colorado Chapter of the American Payroll Association.    Speaker will be Bill Bates\, CPP\, President of the NoCOAPA Chapter\, &  principle of Colorado Payroll Consulting. Before retiring\, Bill was the Social  Security Administration's Employer Service Liaison Officer in Denver & has taught  this seminar in twenty states. He currently teaches Basic Payroll classes for  the American Payroll Association. IRS & Colorado DOR can   will   fine you if you  make mistakes.  This is a once a year requirement & it is easy to forget all the  requirements. This will be a review of all the things you need to remember &  know\, to make it easy when the time comes to do this\, shortly after the  beginning of the year.  Any small business can send a representative\; who ever is required to do  the EOY payroll processing.    Bring a pad to take  notes!
X-ALT-DESC;FMTTYPE=text/html:<p class="MsoNormal" style="margin: 0in 0in 0pt\;"><font><font color="#000000"><font size="3"><font face="Arial">&ldquo\;End of Year Payroll Reporting Processing&rdquo\; will be presented by the Northern  Colorado Chapter of the American Payroll Association. </font></font></font></font><o:p><font><font size="3" face="Arial" color="#000000">&nbsp\;</font></font></o:p></p>  <p class="MsoNormal" style="margin: 0in 0in 0pt\;"><font><font size="3" face="Arial" color="#000000">Speaker will be Bill Bates\, CPP\, President of the NoCOAPA Chapter\, &amp\;  principle&nbsp\;of Colorado Payroll Consulting. Before retiring\, Bill was the Social  Security Administration&rsquo\;s <u>Employer Service Liaison Officer </u>in <st1:city w:st="on"><st1:place w:st="on">Denver</st1:place></st1:city> &amp\; has taught  this seminar in twenty states. He currently teaches Basic Payroll classes for  the American Payroll Association.</font></font></p> <p class="MsoNormal" style="margin: 0in 0in 0pt\;"><font><font size="3" face="Arial" color="#000000">IRS &amp\; Colorado DOR can &ndash\; <font color="#ff0000"><strong><i style="">will</i> </strong></font>&ndash\; fine you if you  make mistakes. </font></font></p> <p class="MsoNormal" style="margin: 0in 0in 0pt\;"><font><font size="3" face="Arial" color="#000000">This is a once a year requirement &amp\; it is easy to forget all the  requirements. This will be a review of all the things you need to remember &amp\;  know\, to make it easy when the time comes to do this\, shortly after the  beginning of the year.</font></font></p> <p class="MsoNormal" style="margin: 0in 0in 0pt\;"><o:p><font><font size="3" face="Arial" color="#000000">&nbsp\;</font></font></o:p></p><p class="MsoNormal" style="margin: 0in 0in 0pt\;"><font><font size="3" face="Arial" color="#000000">Any small business can send a representative\; who ever is required to do  the EOY payroll processing. </font></font></p><p class="MsoNormal" style="margin: 0in 0in 0pt\;">&nbsp\;</p>  <p class="MsoNormal" style="margin: 0in 0in 0pt\;"><o:p></o:p><font><font size="3" face="Arial" color="#000000">Bring a pad to take  notes!</font></font></p> <p class="MsoNormal" style="margin: 0in 0in 0pt\;"><o:p></o:p><font><font color="#000000"><font size="3"><font face="Arial"><span style="color: black\;"><o:p></o:p></span></font></font></font></font></p>
LOCATION:Loveland Chamber of Commerce\, free parking available.
UID:e.593.2048
SEQUENCE:3
DTSTAMP:20260419T172855Z
URL:https://business.loveland.org/events/details/end-of-year-payroll-reporting-processing-12-02-2009-2048
END:VEVENT

END:VCALENDAR
