BEGIN:VCALENDAR
VERSION:2.0
PRODID:-//ChamberMaster//Event Calendar 2.0//EN
METHOD:PUBLISH
X-PUBLISHED-TTL:P3D
REFRESH-INTERVAL:P3D
CALSCALE:GREGORIAN
BEGIN:VEVENT
DTSTART:20091119T180000Z
DTEND:20091119T200000Z
X-MICROSOFT-CDO-ALLDAYEVENT:FALSE
SUMMARY:ESG
DESCRIPTION:It's no secret that many businesses are struggling in the current economy\, and managing employees can be a challenge in both good and bad times. Employee turnover can cost as much as 150 percent of the wages and benefit costs of someone who leaves. Employee productivity often hovers between 55 and 75 percent.\n\nHow can business owners and managers respond? By using creative methods to establish a culture of ownership\, motivate employees and improve productivity. Employer Solutions Group presents a series of educational seminars to assist the local business community with day-to-day management challenges.\n\nWe provide lunch and useful educational materials that you can take back to your business and apply immediately.\nManaging the Employee Lifecycle\nThursday\, November 19\, 11:45 a.m.-1:00 p.m.\, Loveland Chamber of Commerce\nJessica Hergenreter\, PHR and Gayvaughn Marnich\, SPHRDefining the job\, recruiting\, on-boarding\, coaching\, appraising performance\, rewarding\, disciplining\, terminating  there are a lot of ways employers interact with their employees. Each impacts the other and creates either opportunities or roadblocks to success. In this session\, participants will be given a quick overview of each part of the process\, and shown how it's all inter-related. Learn how to set yourself up for success with each step.
X-ALT-DESC;FMTTYPE=text/html:<div><p style="text-align: left"><span style="font-size: smaller">It&rsquo\;s no secret that many businesses are struggling in the current economy\, and managing employees can be a challenge in both good and bad times. Employee turnover can cost as much as 150 percent of the wages and benefit costs of someone who leaves. Employee productivity often hovers between 55 and 75 percent.<br /><br />How can business owners and managers respond? By using creative methods to establish a culture of ownership\, motivate employees and improve productivity. Employer Solutions Group presents a series of educational seminars to assist the local business community with day-to-day management challenges.<br /><br /></span></p><span style="font-size: smaller"><p style="text-align: left"><font face="Arial">We provide lunch and useful educational materials that you can take back to your business and apply immediately.<br /></font></p></span><font size="2" face="arial"><font face="arial"><div style="text-align: left"><span style="font-size: smaller"><strong><font face="Arial">Managing the Employee Lifecycle</font></strong><font face="Arial"><br />Thursday\, November 19\, 11:45 a.m.-1:00 p.m.\, Loveland Chamber of Commerce<br />Jessica Hergenreter\, PHR and Gayvaughn Marnich\, SPHR</font></span></div><div style="text-align: left"><span style="font-size: smaller"><font face="Arial">Defining the job\, recruiting\, on-boarding\, coaching\, appraising performance\, rewarding\, disciplining\, terminating&hellip\; there are a lot of ways employers interact with their employees. Each impacts the other and creates either opportunities or roadblocks to success. In this session\, participants will be given a quick overview of each part of the process\, and shown how it&rsquo\;s all inter-related. Learn how to set yourself up for success with each step.<br /></font></span></div></font></font></div>
LOCATION:Loveland Chamber of Commerce
UID:e.593.2042
SEQUENCE:3
DTSTAMP:20260419T190431Z
URL:https://business.loveland.org/events/details/esg-11-19-2009-2042
END:VEVENT

END:VCALENDAR
