BEGIN:VCALENDAR
VERSION:2.0
PRODID:-//ChamberMaster//Event Calendar 2.0//EN
METHOD:PUBLISH
X-PUBLISHED-TTL:P3D
REFRESH-INTERVAL:P3D
CALSCALE:GREGORIAN
BEGIN:VEVENT
DTSTART;VALUE=DATE:20091102
DTEND;VALUE=DATE:20091129
TRANSP:TRANSPARENT
X-MICROSOFT-CDO-ALLDAYEVENT:TRUE
SUMMARY:Event at HealthStyles Exercise Equipment
DESCRIPTION:Fall Into Fitness Sale
X-ALT-DESC;FMTTYPE=text/html:Fall Into Fitness Sale
LOCATION:HealthStyles - Loveland
UID:e.593.2040
SEQUENCE:3
DTSTAMP:20260419T203425Z
URL:https://business.loveland.org/events/details/event-at-healthstyles-exercise-equipment-11-02-2009-2040
END:VEVENT

END:VCALENDAR
