BEGIN:VCALENDAR
VERSION:2.0
PRODID:-//ChamberMaster//Event Calendar 2.0//EN
METHOD:PUBLISH
X-PUBLISHED-TTL:P3D
REFRESH-INTERVAL:P3D
CALSCALE:GREGORIAN
BEGIN:VEVENT
DTSTART:20091031T160000Z
DTEND:20091031T220000Z
X-MICROSOFT-CDO-ALLDAYEVENT:FALSE
SUMMARY:Event at Max Muscle Loveland
DESCRIPTION:Make A Wish Fundraiser. We are sending Tyler to Disney World for his wish. Several events posted on the website for all ages. Thank you!
X-ALT-DESC;FMTTYPE=text/html:<div>Make A Wish Fundraiser. We are sending Tyler to Disney World for his wish. Several events posted on the website for all ages. Thank you!</div>
LOCATION:Gold's Gym Loveland
UID:e.593.1893
SEQUENCE:3
DTSTAMP:20260419T215805Z
URL:https://business.loveland.org/events/details/event-at-max-muscle-loveland-10-31-2009-1893
END:VEVENT

END:VCALENDAR
